BEGIN:VCALENDAR
VERSION:2.0
PRODID:-//ChamberMaster//Event Calendar 2.0//EN
METHOD:PUBLISH
X-PUBLISHED-TTL:P3D
REFRESH-INTERVAL:P3D
CALSCALE:GREGORIAN
BEGIN:VEVENT
DTSTART:20171026T140000Z
DTEND:20171026T150000Z
X-MICROSOFT-CDO-ALLDAYEVENT:FALSE
SUMMARY:Chamber Coffee: USD 428 Foundation
DESCRIPTION:The community is invited to attend the weekly Chamber Coffee hosted on Thursday\, October 26th by the USD 428 Foundation in Great Bend. Networking\, coffee & refreshments are available at 9:00am\, the program will take place at 9:30am.
X-ALT-DESC;FMTTYPE=text/html:The community is invited to attend the weekly Chamber Coffee hosted on Thursday\, October&nbsp\;26th&nbsp\;by the USD 428 Foundation&nbsp\;in Great Bend. Networking\, coffee &amp\; refreshments are available at 9:00am\, the program will take place at 9:30am.&nbsp\;
LOCATION:USD 428 District Office 201 S Patton Road Great Bend\, KS
UID:e.2303.3354
SEQUENCE:3
DTSTAMP:20260422T132055Z
URL:https://members.greatbend.org/events/details/chamber-coffee-usd-428-foundation-3354
END:VEVENT

END:VCALENDAR
