BEGIN:VCALENDAR
VERSION:2.0
PRODID:-//ChamberMaster//Event Calendar 2.0//EN
METHOD:PUBLISH
X-PUBLISHED-TTL:P3D
REFRESH-INTERVAL:P3D
CALSCALE:GREGORIAN
BEGIN:VEVENT
DTSTART:20180111T150000Z
DTEND:20180111T160000Z
X-MICROSOFT-CDO-ALLDAYEVENT:FALSE
SUMMARY:Chamber Coffee: Yoga Central of Great Bend
DESCRIPTION:Please join us for our weekly Chamber Coffee\, hosted by Yoga Central of Great Bend! Networking\, coffee & refreshments are available at 9:00 AM\, the program will take place at 9:30 AM.
X-ALT-DESC;FMTTYPE=text/html:Please join us for our weekly Chamber Coffee\, hosted by Yoga Central of Great Bend! Networking\, coffee &amp\; refreshments are available at 9:00 AM\, the program will take place at 9:30 AM.
LOCATION:6003 10th St. Great Bend\, KS
UID:e.2303.3492
SEQUENCE:3
DTSTAMP:20260420T094702Z
URL:https://members.greatbend.org/events/details/chamber-coffee-yoga-central-of-great-bend-3492
END:VEVENT

END:VCALENDAR
