BEGIN:VCALENDAR
VERSION:2.0
PRODID:-//ChamberMaster//Event Calendar 2.0//EN
METHOD:PUBLISH
X-PUBLISHED-TTL:P3D
REFRESH-INTERVAL:P3D
CALSCALE:GREGORIAN
BEGIN:VEVENT
DTSTART:20200307T160000Z
DTEND:20200307T170000Z
X-MICROSOFT-CDO-ALLDAYEVENT:FALSE
SUMMARY:Chamber Legislative Coffee
DESCRIPTION:Great Bend Chamber of Commerce hosting a Legislative Coffee on Saturday\, March 7th from 10-11AM in the Spray-Holt Family Boardroom at 1125 Williams St.
X-ALT-DESC;FMTTYPE=text/html:Great Bend Chamber of Commerce hosting a Legislative Coffee on Saturday\, March 7th from 10-11AM in the Spray-Holt Family Boardroom at 1125 Williams St.
LOCATION:Great Bend Chamber of Commerce Spray-Holt Family Boardroom 1125 Williams St. Great Bend\, KS
UID:e.2303.7742
SEQUENCE:3
DTSTAMP:20260419T210257Z
URL:https://members.greatbend.org/events/details/chamber-legislative-coffee-03-07-2020-7742
END:VEVENT

END:VCALENDAR
