BEGIN:VCALENDAR
VERSION:2.0
PRODID:-//ChamberMaster//Event Calendar 2.0//EN
METHOD:PUBLISH
X-PUBLISHED-TTL:P3D
REFRESH-INTERVAL:P3D
CALSCALE:GREGORIAN
BEGIN:VEVENT
DTSTART:20200201T160000Z
DTEND:20200201T170000Z
X-MICROSOFT-CDO-ALLDAYEVENT:FALSE
SUMMARY:Chamber Legislative Coffee
DESCRIPTION:
X-ALT-DESC;FMTTYPE=text/html:
LOCATION:The Sunflower Center\, 1125 Williams St.
UID:e.2303.7585
SEQUENCE:3
DTSTAMP:20260419T223804Z
URL:https://members.greatbend.org/events/details/chamber-legislative-coffee-7585
END:VEVENT

END:VCALENDAR
