BEGIN:VCALENDAR
VERSION:2.0
PRODID:-//ChamberMaster//Event Calendar 2.0//EN
METHOD:PUBLISH
X-PUBLISHED-TTL:P3D
REFRESH-INTERVAL:P3D
CALSCALE:GREGORIAN
BEGIN:VEVENT
DTSTART:20170614T150000Z
DTEND:20170614T160000Z
X-MICROSOFT-CDO-ALLDAYEVENT:FALSE
SUMMARY:Chamber Marketing & Member Services Seminar
DESCRIPTION:All local businesses are invited to attend an informational seminar on Wednesday\, June 14th designed to inform current and prospective members about the numerous marketing services available through the Great Bend Chamber of Commerce & Economic Development. The session will begin at 10 a.m. in the Chamber Board Room\, and will include coffee and rolls at no charge to participants. During the presentation\, members will learn about all the ways they can utilize Chamber services to the benefit of their companies. This is also a great way to share ideas and network with other businesses.\n\n\n\nThe session will conclude in less than an hour\, so you can get in and out with new ideas get started on! Hand-outs will be provided to all who attend. To RSVP for the free informational seminar\, follow the website link below and register through the convenient online form. Questions may also be directed to Megan Barfield\, Member Relations Coordinator.\n\n\n\nDate - Jun 14\, 2017 \n\nTime - Between 10:00 AM and 11:00 AM \n\nType - Chamber Event \n\nCommunity - Great Bend \n\nLocation - Chamber Board Room \n\nAddress - 1125 Williams\n\nGreat Bend\, KS \n\nContact - Megan Barfield \n\nEmail - mbarfield@greatbend.org \n\nWebsite - fs23.formsite.com/abauer/form8/index.html
X-ALT-DESC;FMTTYPE=text/html:<span style="color: rgb(13\, 6\, 0)\; font-family: Georgia\; font-size: 13.3333px\;">All local businesses are invited to attend an informational seminar on Wednesday\, June 14th designed to inform current and prospective members about the numerous marketing services available through the Great Bend Chamber of Commerce &amp\; Economic Development. The session will begin at 10 a.m. in the Chamber Board Room\, and will include coffee and rolls at no charge to participants. During the presentation\, members will learn about all the ways they can utilize Chamber services to the benefit of their companies. This is also a great way to share ideas and network with other businesses.</span><br style="color: rgb(13\, 6\, 0)\; font-family: Georgia\; font-size: 13.3333px\;" />\n<br style="color: rgb(13\, 6\, 0)\; font-family: Georgia\; font-size: 13.3333px\;" />\n<span style="color: rgb(13\, 6\, 0)\; font-family: Georgia\; font-size: 13.3333px\;">The session will conclude in less than an hour\, so you can get in and out with new ideas get started on! Hand-outs will be provided to all who attend. To RSVP for the free informational seminar\, follow the website link below and register through the convenient online form. Questions may also be directed to Megan Barfield\, Member Relations Coordinator.</span><br style="color: rgb(13\, 6\, 0)\; font-family: Georgia\; font-size: 13.3333px\;" />\n<br style="color: rgb(13\, 6\, 0)\; font-family: Georgia\; font-size: 13.3333px\;" />\n<span style="color: rgb(13\, 6\, 0)\; font-family: Georgia\; font-size: 13.3333px\;">Date - Jun 14\, 2017&nbsp\;</span><br style="color: rgb(13\, 6\, 0)\; font-family: Georgia\; font-size: 13.3333px\;" />\n<span style="color: rgb(13\, 6\, 0)\; font-family: Georgia\; font-size: 13.3333px\;">Time - Between 10:00 AM and 11:00 AM&nbsp\;</span><br style="color: rgb(13\, 6\, 0)\; font-family: Georgia\; font-size: 13.3333px\;" />\n<span style="color: rgb(13\, 6\, 0)\; font-family: Georgia\; font-size: 13.3333px\;">Type - Chamber Event&nbsp\;</span><br style="color: rgb(13\, 6\, 0)\; font-family: Georgia\; font-size: 13.3333px\;" />\n<span style="color: rgb(13\, 6\, 0)\; font-family: Georgia\; font-size: 13.3333px\;">Community - Great Bend&nbsp\;</span><br style="color: rgb(13\, 6\, 0)\; font-family: Georgia\; font-size: 13.3333px\;" />\n<span style="color: rgb(13\, 6\, 0)\; font-family: Georgia\; font-size: 13.3333px\;">Location - Chamber Board Room&nbsp\;</span><br style="color: rgb(13\, 6\, 0)\; font-family: Georgia\; font-size: 13.3333px\;" />\n<span style="color: rgb(13\, 6\, 0)\; font-family: Georgia\; font-size: 13.3333px\;">Address - 1125 Williams</span><br style="color: rgb(13\, 6\, 0)\; font-family: Georgia\; font-size: 13.3333px\;" />\n<span style="color: rgb(13\, 6\, 0)\; font-family: Georgia\; font-size: 13.3333px\;">Great Bend\, KS&nbsp\;</span><br style="color: rgb(13\, 6\, 0)\; font-family: Georgia\; font-size: 13.3333px\;" />\n<span style="color: rgb(13\, 6\, 0)\; font-family: Georgia\; font-size: 13.3333px\;">Contact - Megan Barfield&nbsp\;</span><br style="color: rgb(13\, 6\, 0)\; font-family: Georgia\; font-size: 13.3333px\;" />\n<span style="color: rgb(13\, 6\, 0)\; font-family: Georgia\; font-size: 13.3333px\;">Email -&nbsp\;</span><a href="mailto:mbarfield@greatbend.org" style="font-family: Georgia\; font-size: 13.3333px\;">mbarfield@greatbend.org</a><span style="color: rgb(13\, 6\, 0)\; font-family: Georgia\; font-size: 13.3333px\;">&nbsp\;</span><br style="color: rgb(13\, 6\, 0)\; font-family: Georgia\; font-size: 13.3333px\;" />\n<span style="color: rgb(13\, 6\, 0)\; font-family: Georgia\; font-size: 13.3333px\;">Website -&nbsp\;</span><a href="http://fs23.formsite.com/abauer/form8/index.html" style="font-family: Georgia\; font-size: 13.3333px\;" target="_blank">fs23.formsite.com/abauer/form8/index.html</a>
LOCATION:
UID:e.2303.1806
SEQUENCE:3
DTSTAMP:20260422T185214Z
URL:https://members.greatbend.org/events/details/chamber-marketing-member-services-seminar-1806
END:VEVENT

END:VCALENDAR
