BEGIN:VCALENDAR
VERSION:2.0
PRODID:-//ChamberMaster//Event Calendar 2.0//EN
METHOD:PUBLISH
X-PUBLISHED-TTL:P3D
REFRESH-INTERVAL:P3D
CALSCALE:GREGORIAN
BEGIN:VEVENT
DTSTART:20171011T150000Z
DTEND:20171011T160000Z
X-MICROSOFT-CDO-ALLDAYEVENT:FALSE
SUMMARY:Chamber Marketing & Member Services Seminar
DESCRIPTION:All local businesses are invited to attend an informational seminar on Wednesday\, October 11th designed to inform current and prospective members about the numerous marketing services available through the Great Bend Chamber of Commerce & Economic Development.\n\n\n\nThe session will begin at 10 a.m. in the Chamber Board Room\, and will include coffee and rolls at no charge to participants. During the presentation\, members will learn about all the ways they can utilize Chamber services to the benefit of their companies. This is also a great way to share ideas and network with other businesses.\n\n\n\nThe session will conclude in less than an hour\, so you can get in and out with new ideas get started on! Hand-outs will be provided to all who attend. To RSVP for the free informational seminar\, follow the website link below and register through the convenient online form. Questions may also be directed to Megan Barfield\, Member Relations Coordinator.
X-ALT-DESC;FMTTYPE=text/html:<span style="font-family:arial\;"><span style="color: rgb(13\, 6\, 0)\; font-size: 13.3333px\;">All local businesses are invited to attend an informational seminar on Wednesday\, October 11th&nbsp\;designed to inform current and prospective members about the numerous marketing services available through the Great Bend Chamber of Commerce &amp\; Economic Development.<br />\n<br />\nThe session will begin at 10 a.m. in the Chamber Board Room\, and will include coffee and rolls at no charge to participants. During the presentation\, members will learn about all the ways they can utilize Chamber services to the benefit of their companies. This is also a great way to share ideas and network with other businesses.</span><br style="color: rgb(13\, 6\, 0)\; font-family: Georgia\; font-size: 13.3333px\;" />\n<br style="color: rgb(13\, 6\, 0)\; font-family: Georgia\; font-size: 13.3333px\;" />\n<span style="color: rgb(13\, 6\, 0)\; font-size: 13.3333px\;">The session will conclude in less than an hour\, so you can get in and out with new ideas get started on! Hand-outs will be provided to all who attend. To RSVP for the free informational seminar\, follow the website link below and register through the convenient online form. Questions may also be directed to Megan Barfield\, Member Relations Coordinator.</span></span>
LOCATION:Great Bend Chamber of Commerce & ED Spray Holt Family Board Room 1125 Williams Great Bend\, KS
UID:e.2303.3005
SEQUENCE:3
DTSTAMP:20260422T133040Z
URL:https://members.greatbend.org/events/details/chamber-marketing-member-services-seminar-3005
END:VEVENT

END:VCALENDAR
