BEGIN:VCALENDAR
VERSION:2.0
PRODID:-//ChamberMaster//Event Calendar 2.0//EN
METHOD:PUBLISH
X-PUBLISHED-TTL:P3D
REFRESH-INTERVAL:P3D
CALSCALE:GREGORIAN
BEGIN:VEVENT
DTSTART:20220728T151500Z
DTEND:20220728T153000Z
X-MICROSOFT-CDO-ALLDAYEVENT:FALSE
SUMMARY:Chamber Ribbon Cutting: Aly's Dance Studio
DESCRIPTION:Join the Chamber of Commerce for a Ribbon Cutting commemorating the Aly's Dance Studio on joining the Chamber!
X-ALT-DESC;FMTTYPE=text/html:<span style="color: rgb(51\, 51\, 51)\; font-family: Roboto\, sans-serif\; font-size: 13px\; background-color: rgb(255\, 255\, 255)\;">Join the Chamber of Commerce for a Ribbon Cutting commemorating the Aly&#39\;s Dance Studio on joining the Chamber!</span>
LOCATION:1701 K 96 HWY Great Bend\, Ks
UID:e.2303.10819
SEQUENCE:3
DTSTAMP:20260423T050020Z
URL:https://members.greatbend.org/events/details/chamber-ribbon-cutting-aly-s-dance-studio-10819
END:VEVENT

END:VCALENDAR
