BEGIN:VCALENDAR
VERSION:2.0
PRODID:-//ChamberMaster//Event Calendar 2.0//EN
METHOD:PUBLISH
X-PUBLISHED-TTL:P3D
REFRESH-INTERVAL:P3D
CALSCALE:GREGORIAN
BEGIN:VEVENT
DTSTART:20250207T233000Z
DTEND:20250208T010000Z
X-MICROSOFT-CDO-ALLDAYEVENT:FALSE
SUMMARY:Chicken Fried Steak Night
DESCRIPTION:The VFW is holding a chicken fried steak night!
X-ALT-DESC;FMTTYPE=text/html:The VFW is holding a chicken fried steak night!
LOCATION:504 Washington\, Great Bend\, KS
UID:e.2303.16361
SEQUENCE:3
DTSTAMP:20260422T225619Z
URL:https://members.greatbend.org/events/details/chicken-fried-steak-night-16361
END:VEVENT

END:VCALENDAR
