BEGIN:VCALENDAR
VERSION:2.0
PRODID:-//ChamberMaster//Event Calendar 2.0//EN
METHOD:PUBLISH
X-PUBLISHED-TTL:P3D
REFRESH-INTERVAL:P3D
CALSCALE:GREGORIAN
BEGIN:VEVENT
DTSTART:20210415T200000Z
DTEND:20210415T210000Z
X-MICROSOFT-CDO-ALLDAYEVENT:FALSE
SUMMARY:Choose-your-own Scavenger Hunt
DESCRIPTION:You are aboard the Titanic\, the world's largest ocean liner. The ship has hit an iceberg and is headed to the bottom of the sea. Will you survive?" Follow the clues and choose the path you take through history. See the Teen Librarian to begin your adventure! Open to teens grades 6-12
X-ALT-DESC;FMTTYPE=text/html:You are aboard the Titanic\, the world&#39\;s largest ocean liner. The ship has hit an iceberg and is headed to the bottom of the sea. Will you survive?&quot\; Follow the clues and choose the path you take through history. See the Teen Librarian to begin your adventure! Open to teens grades 6-12
LOCATION:Great Bend Public Library
UID:e.2303.8274
SEQUENCE:3
DTSTAMP:20260419T135324Z
URL:https://members.greatbend.org/events/details/choose-your-own-scavenger-hunt-8274
END:VEVENT

END:VCALENDAR
