BEGIN:VCALENDAR
VERSION:2.0
PRODID:-//ChamberMaster//Event Calendar 2.0//EN
METHOD:PUBLISH
X-PUBLISHED-TTL:P3D
REFRESH-INTERVAL:P3D
CALSCALE:GREGORIAN
BEGIN:VEVENT
DTSTART:20171218T150000Z
DTEND:20171219T010000Z
X-MICROSOFT-CDO-ALLDAYEVENT:FALSE
SUMMARY:Christmas Craft Mall
DESCRIPTION:The 2017 Christmas Craft Mall LLC will be located at 3301 Lakin (Lakin & Harrison) Central Baptist Church. Perfect for your holiday shopping\, the Christmas Craft Mall features a wide variety of local artisans and handmade items. The Christmas Craft Mall is open November 18th thru December 28th\, Monday thru Saturday 9am to 7pm Sunday 1pm to 6pm.
X-ALT-DESC;FMTTYPE=text/html:The 2017 Christmas Craft Mall LLC will be located at 3301 Lakin&nbsp\;(Lakin &amp\; Harrison)&nbsp\;Central Baptist Church. Perfect for your holiday shopping\, the Christmas Craft Mall features a wide variety of local artisans and handmade items. The Christmas Craft Mall is open November 18th thru December 28th\, Monday thru Saturday 9am to 7pm Sunday 1pm to 6pm.
LOCATION:Lakin & Harrison 3301 Lakin Ave Great Bend\, KS 67530
UID:e.2303.3553
SEQUENCE:3
DTSTAMP:20260420T105742Z
URL:https://members.greatbend.org/events/details/christmas-craft-mall-12-18-2017-3553
END:VEVENT

END:VCALENDAR
