BEGIN:VCALENDAR
VERSION:2.0
PRODID:-//ChamberMaster//Event Calendar 2.0//EN
METHOD:PUBLISH
X-PUBLISHED-TTL:P3D
REFRESH-INTERVAL:P3D
CALSCALE:GREGORIAN
BEGIN:VEVENT
DTSTART:20180129T150000Z
DTEND:20180129T210000Z
X-MICROSOFT-CDO-ALLDAYEVENT:FALSE
SUMMARY:Circles of Central Kansas - Bridges Out of Poverty Training
DESCRIPTION:Open to all community members who would like to deepen their understanding of poverty\, the Bridges Out of Poverty Training will enlighten and inspire attendees. This is also a prerequisite to becoming a Circles Ally.
X-ALT-DESC;FMTTYPE=text/html:Open to all community members who would like to deepen their understanding of poverty\, the Bridges Out of Poverty Training will enlighten and inspire attendees. This is also a prerequisite to becoming a Circles Ally.
LOCATION:First Christian Church Broadway & K96
UID:e.2303.3658
SEQUENCE:3
DTSTAMP:20260422T093922Z
URL:https://members.greatbend.org/events/details/circles-of-central-kansas-bridges-out-of-poverty-training-3658
END:VEVENT

END:VCALENDAR
