BEGIN:VCALENDAR
VERSION:2.0
PRODID:-//ChamberMaster//Event Calendar 2.0//EN
METHOD:PUBLISH
X-PUBLISHED-TTL:P3D
REFRESH-INTERVAL:P3D
CALSCALE:GREGORIAN
BEGIN:VEVENT
DTSTART:20171002T223000Z
DTEND:20171002T233000Z
X-MICROSOFT-CDO-ALLDAYEVENT:FALSE
SUMMARY:City Council Meeting
DESCRIPTION:First and Third Monday of each month
X-ALT-DESC;FMTTYPE=text/html:<span style="color: rgb(13\, 6\, 0)\; font-family: Georgia\; font-size: 13.3333px\;">First and Third Monday of each month</span>
LOCATION:City Hall 1209 Williams Great Bend
UID:e.2303.1241
SEQUENCE:3
DTSTAMP:20260422T133039Z
URL:https://members.greatbend.org/events/details/city-council-meeting-10-02-2017-1241
END:VEVENT

END:VCALENDAR
