BEGIN:VCALENDAR
VERSION:2.0
PRODID:-//ChamberMaster//Event Calendar 2.0//EN
METHOD:PUBLISH
X-PUBLISHED-TTL:P3D
REFRESH-INTERVAL:P3D
CALSCALE:GREGORIAN
BEGIN:VEVENT
DTSTART:20220704T003000Z
DTEND:20220704T040000Z
X-MICROSOFT-CDO-ALLDAYEVENT:FALSE
SUMMARY:City of Great Bend Fireworks Display
DESCRIPTION:Great Bend Expo Complex\n\n	Gates open at 7:30 pm\n	Tune into 100.7FM at 8:30 pm\n	Fireworks Begin at 9:45 pm - 10 pm
X-ALT-DESC;FMTTYPE=text/html:Great Bend Expo Complex\n<ul>\n	<li>Gates open at 7:30 pm</li>\n	<li>Tune into 100.7FM at 8:30 pm</li>\n	<li>Fireworks Begin at 9:45 pm - 10 pm</li>\n</ul>\n
LOCATION:
UID:e.2303.10840
SEQUENCE:3
DTSTAMP:20260423T032641Z
URL:https://members.greatbend.org/events/details/city-of-great-bend-fireworks-display-10840
END:VEVENT

END:VCALENDAR
