BEGIN:VCALENDAR
VERSION:2.0
PRODID:-//ChamberMaster//Event Calendar 2.0//EN
METHOD:PUBLISH
X-PUBLISHED-TTL:P3D
REFRESH-INTERVAL:P3D
CALSCALE:GREGORIAN
BEGIN:VEVENT
DTSTART;VALUE=DATE:20240402
DTEND;VALUE=DATE:20240406
TRANSP:TRANSPARENT
X-MICROSOFT-CDO-ALLDAYEVENT:TRUE
SUMMARY:CKCA Kindergarten Screening
DESCRIPTION:Central Kansas Christian Academy\, a nonprofit Christian school in Great Bend\, will be hosting its annual Kindergarten Screenings during the week of April 2nd through the 5th by scheduled appointment. CKCA offers a robust curriculum that not only focuses on academic growth but also nurtures the student's Christian spirit. These screenings are designed for children who will be entering Kindergarten in the 2024/2025 school year. The individual screenings will take place at CKCA located at 215 McKinley Street in Great Bend. \n\n\n\nFind out more HERE!
X-ALT-DESC;FMTTYPE=text/html:<span style="font-size:18px\;">Central Kansas Christian Academy\, a nonprofit Christian school in Great Bend\, will be hosting its annual Kindergarten Screenings during the week of April 2nd through the 5th by scheduled appointment. CKCA offers a robust curriculum that not only focuses on academic growth but also nurtures the student&#39\;s Christian spirit. These screenings are designed for children who will be entering Kindergarten in the 2024/2025 school year. The individual screenings will take place at CKCA located at 215 McKinley Street in Great Bend.&nbsp\;<br />\n<br />\nFind out more <a href="https://www.ckcacademy.com/post/kindergarten-screenings"><strong>HERE</strong></a>!&nbsp\;</span>
LOCATION:215 McKinley Street Great Bend\, KS 67530
UID:e.2303.13553
SEQUENCE:3
DTSTAMP:20260425T234304Z
URL:https://members.greatbend.org/events/details/ckca-kindergarten-screening-13553
END:VEVENT

END:VCALENDAR
