BEGIN:VCALENDAR
VERSION:2.0
PRODID:-//ChamberMaster//Event Calendar 2.0//EN
METHOD:PUBLISH
X-PUBLISHED-TTL:P3D
REFRESH-INTERVAL:P3D
CALSCALE:GREGORIAN
BEGIN:VEVENT
DTSTART:20170902T113000Z
DTEND:20170902T150000Z
X-MICROSOFT-CDO-ALLDAYEVENT:FALSE
SUMMARY:Clara Barton Bottoms Up Bike Ride
DESCRIPTION:Clara Barton Hospital will be hosting their 1st Annual Bottoms Up Bike Ride on Saturday\, September 2nd in conjunction with the other community Labor Day festivities.  A new offering this year\, the bike ride\, will be a nice addition to a great line up of Labor Day activities to choose from supporting the Hoisington Chamber of Commerce. \n\n\n\nThe cycling event will take place on Saturday morning with registration beginning at 6:30 a.m. onsite at Clara Barton Hospital. The ride will launch and end in Clara Barton Hospital's front parking lot. The beauty of Cheyenne Bottoms can be seen from the seat of your bicycle. The bike ride will be led by Clara Barton Hospital employees and experienced bike enthusiast. This is not a race\, but an event for all abilities. Riders can choose from three different rides that fit their desire and ability. Support services for water and refreshments will be available.  \n\n\n\nCost to participate is $15.00 between now and August 15. Pre-registration prior to August 15th includes a Clara Barton Bottoms Up t-shirt.  Registration is available the day of for a $10.00 fee (no t-shirt included).
X-ALT-DESC;FMTTYPE=text/html:Clara Barton Hospital will be hosting their 1st Annual Bottoms Up Bike Ride on Saturday\, September 2nd in conjunction with the other community Labor Day festivities. &nbsp\;A new offering this year\, the bike ride\, will be a nice addition to a great line up of Labor Day activities to choose from supporting the Hoisington Chamber of Commerce.&nbsp\;<br />\n<br />\nThe cycling event will take place on Saturday morning with registration beginning at 6:30 a.m. onsite at Clara Barton Hospital. The ride will launch and end in Clara Barton Hospital&rsquo\;s front parking lot. The beauty of Cheyenne Bottoms can be seen from the seat of your bicycle. The bike ride will be led by Clara Barton Hospital employees and experienced bike enthusiast. This is not a race\, but an event for all abilities. Riders can choose from three different rides that fit their desire and ability. Support services for water and refreshments will be available. &nbsp\;<br />\n<br />\nCost to participate is $15.00 between now and August 15. Pre-registration prior to August 15th includes a Clara Barton Bottoms Up t-shirt. &nbsp\;Registration is available the day of for a $10.00 fee (no t-shirt included).
LOCATION:Clara Barton Hospital 250 W 9th St Hoisington\, KS 67544
UID:e.2303.3052
SEQUENCE:3
DTSTAMP:20260422T144059Z
URL:https://members.greatbend.org/events/details/clara-barton-bottoms-up-bike-ride-3052
END:VEVENT

END:VCALENDAR
