BEGIN:VCALENDAR
VERSION:2.0
PRODID:-//ChamberMaster//Event Calendar 2.0//EN
METHOD:PUBLISH
X-PUBLISHED-TTL:P3D
REFRESH-INTERVAL:P3D
CALSCALE:GREGORIAN
BEGIN:VEVENT
DTSTART:20240403T230000Z
DTEND:20240404T020000Z
X-MICROSOFT-CDO-ALLDAYEVENT:FALSE
SUMMARY:CO.STARTERS Core
DESCRIPTION:CO.STARTERS Program for Entrepreneurs\n\nGreat Bend Economic Development\, Inc. (GBED) will soon offer CO.STARTERS Core\, a ten-session\, cohort-based program that equips entrepreneurs of all kinds with the insights\, relationships\, and tools needed to turn business ideas into action. \n\nDrawing from the experience of successful entrepreneurs and startup veterans from around the globe\, CO.STARTERS walks creative small business owners through lean\, effective business modeling methods in a simple and intuitive way\, while connecting them to a supportive community of peers and mentors. Rather than treating a venture like a large corporation and writing a detailed business plan\, CO.STARTERS participants are encouraged to build and test small models first. In the process\, participants receive real-time customer feedback\, update their models to meet customer needs and avoid creating businesses based on incorrect assumptions.\n\nThe CO.STARTERS program has a global reach\, serving more than 200 communities across the United States\, New Zealand\, and Australia. \n\nIn Great Bend\, CO.STARTERS will be implemented and facilitated by GBED. GBED offers a robust and comprehensive path to guide entrepreneurs through every stage of their business journey. The ten-week CO.STARTERS Core program will kick off on April 3rd. This first cohort will meet on Wednesday evenings from 6 pm to 9 pm. The value of the class is over $2500 with the services and materials included\, GBED has been able to have fees subsidized with sponsorships so participants pay $250. GBED is offering a rebate for participants if they attend 8 of the 10 classes they receive a $100 rebate. The class size is limited\, so apply HERE today.
X-ALT-DESC;FMTTYPE=text/html:<h2 font-size:="" margin-bottom:="" margin-top:="" open="" style="font-family: "><strong style="color: rgb(0\, 0\, 0)\;"><span class="il">CO</span>.<span class="il">STARTERS</span>&nbsp\;Program for Entrepreneurs</strong></h2>\n\n<p font-size:="" margin-bottom:="" margin-top:="" open="" style="font-family: ">Great Bend Economic Development\, Inc. (GBED) will soon offer&nbsp\;<span class="il">CO</span>.<span class="il">STARTERS</span>&nbsp\;Core\, a ten-session\, cohort-based program that equips entrepreneurs of all kinds with the insights\, relationships\, and tools needed to turn business ideas into action.&nbsp\;</p>\n\n<p font-size:="" margin-bottom:="" margin-top:="" open="" style="font-family: ">Drawing from the experience of successful entrepreneurs and startup veterans from around the globe\,&nbsp\;<span class="il">CO</span>.<span class="il">STARTERS</span>&nbsp\;walks creative small business owners through lean\, effective business modeling methods in a simple and intuitive way\, while connecting them to a supportive community of peers and mentors. Rather than treating a venture like a large corporation and writing a detailed business plan\,&nbsp\;<span class="il">CO</span>.<span class="il">STARTERS</span>&nbsp\;participants are encouraged to build and test small models first. In the process\, participants receive real-time customer feedback\, update their models to meet customer needs and avoid creating businesses based on incorrect assumptions.</p>\n\n<p font-size:="" margin-bottom:="" margin-top:="" open="" style="font-family: ">The&nbsp\;<span class="il">CO</span>.<span class="il">STARTERS</span>&nbsp\;program&nbsp\;has a global reach\, serving more than 200 communities across the United States\, New Zealand\, and Australia.&nbsp\;</p>\n\n<p font-size:="" margin-bottom:="" margin-top:="" open="" style="font-family: ">In Great Bend\,&nbsp\;<span class="il">CO</span>.<span class="il">STARTERS</span>&nbsp\;will be implemented and facilitated by GBED. GBED offers a robust and comprehensive path to guide entrepreneurs through every stage of their business journey.<em>&nbsp\;</em>The ten-week&nbsp\;<span class="il">CO</span>.<span class="il">STARTERS</span>&nbsp\;Core program will kick off on April 3<sup>rd</sup>. This first cohort will meet on Wednesday evenings from 6 pm to 9 pm. The value of the class is over $2500 with the services and materials included\, GBED has been able to have fees subsidized with sponsorships so participants pay $250. GBED is offering a rebate for participants if they attend 8 of the 10 classes they receive a $100 rebate. The class size is limited\, so apply <a href="https://www.gbedinc.com/costarters">HERE</a>&nbsp\;today.</p>\n
LOCATION:
UID:e.2303.13540
SEQUENCE:3
DTSTAMP:20260425T234130Z
URL:https://members.greatbend.org/events/details/co-starters-core-13540
END:VEVENT

END:VCALENDAR
