BEGIN:VCALENDAR
VERSION:2.0
PRODID:-//ChamberMaster//Event Calendar 2.0//EN
METHOD:PUBLISH
X-PUBLISHED-TTL:P3D
REFRESH-INTERVAL:P3D
CALSCALE:GREGORIAN
BEGIN:VEVENT
DTSTART:20170428T140000Z
DTEND:20170428T210000Z
X-MICROSOFT-CDO-ALLDAYEVENT:FALSE
SUMMARY:Collective Goods Book Fair
DESCRIPTION:Mark your calendars and be sure to check out the upcoming Collective Goods (previously known as Books Are Fun) Sale that will help to aid the Clara Barton Hospital Foundation and Auxiliary.Collective Goods offers hardcover books\, gifts\, and educational products at savings of up to 80% off retail prices. Stop by and enter for a chance to win a free item. No purchase necessary to be entered in the give-away.
X-ALT-DESC;FMTTYPE=text/html:<span style="color: rgb(13\, 6\, 0)\; font-family: Georgia\; font-size: 13.3333px\;">Mark your calendars and be sure to check out the upcoming Collective Goods (previously known as Books Are Fun) Sale that will help to aid the Clara Barton Hospital Foundation and Auxiliary.Collective Goods offers hardcover books\, gifts\, and educational products at savings of up to 80% off retail prices. Stop by and enter for a chance to win a free item. No purchase necessary to be entered in the give-away.</span>
LOCATION:Clara Barton Hospital Turnbull Safe Room 250 West 9th Street Hoisington\, KS
UID:e.2303.1226
SEQUENCE:3
DTSTAMP:20260422T221540Z
URL:https://members.greatbend.org/events/details/collective-goods-book-fair-1226
END:VEVENT

END:VCALENDAR
