BEGIN:VCALENDAR
VERSION:2.0
PRODID:-//ChamberMaster//Event Calendar 2.0//EN
METHOD:PUBLISH
X-PUBLISHED-TTL:P3D
REFRESH-INTERVAL:P3D
CALSCALE:GREGORIAN
BEGIN:VEVENT
DTSTART:20200221T000000Z
DTEND:20200221T020000Z
X-MICROSOFT-CDO-ALLDAYEVENT:FALSE
SUMMARY:COPE Cost of Poverty Experience/ Poverty Simulation
DESCRIPTION:Joins us for this free event to find out\, if you could survive a month in poverty? Learn all about the live of those living below the poverty line in this interactive simulation.
X-ALT-DESC;FMTTYPE=text/html:Joins us for this free event to find out\, if you could survive a month in poverty? Learn all about the live of those living below the poverty line in this interactive simulation.
LOCATION:First Christian Church 5230 Broadway
UID:e.2303.7726
SEQUENCE:3
DTSTAMP:20260420T002611Z
URL:https://members.greatbend.org/events/details/cope-cost-of-poverty-experience-poverty-simulation-7726
END:VEVENT

END:VCALENDAR
