BEGIN:VCALENDAR
VERSION:2.0
PRODID:-//ChamberMaster//Event Calendar 2.0//EN
METHOD:PUBLISH
X-PUBLISHED-TTL:P3D
REFRESH-INTERVAL:P3D
CALSCALE:GREGORIAN
BEGIN:VEVENT
DTSTART:20201016T163000Z
DTEND:20201016T183000Z
X-MICROSOFT-CDO-ALLDAYEVENT:FALSE
SUMMARY:Cram the Van Lunch
DESCRIPTION:Wheatland Electric invites you to cruise on by with your food bank donation in return for a to-go lunch (hotdog or hamburger\, chips\, and a cookie). We'll be parked outside the Great Bend Events Center on Friday\, October 16th from 11:30 am to 1:30 pm. Follow the signs\, drive up\, donate\, and leave with your to-go lunch\, knowing that you've made a positive difference in your community by helping to fight hunger. All donations will remain local and benefit the Community Food Bank of Barton County.
X-ALT-DESC;FMTTYPE=text/html:Wheatland Electric invites you to cruise on by with your food bank donation in return for a to-go lunch (hotdog or hamburger\, chips\, and a cookie). We&rsquo\;ll be parked outside the Great Bend Events Center on Friday\, October 16th from 11:30 am to 1:30 pm. Follow the signs\, drive up\, donate\, and leave with your to-go lunch\, knowing that you&rsquo\;ve made a positive difference in your community by helping to fight hunger. All donations will remain local and benefit the Community Food Bank of Barton County.
LOCATION:Great Bend Events Center Parking Lot 3111 10th Street Great Bend\, KS 67530
UID:e.2303.8033
SEQUENCE:3
DTSTAMP:20260425T122923Z
URL:https://members.greatbend.org/events/details/cram-the-van-lunch-8033
END:VEVENT

END:VCALENDAR
