BEGIN:VCALENDAR
VERSION:2.0
PRODID:-//ChamberMaster//Event Calendar 2.0//EN
METHOD:PUBLISH
X-PUBLISHED-TTL:P3D
REFRESH-INTERVAL:P3D
CALSCALE:GREGORIAN
BEGIN:VEVENT
DTSTART:20180206T153000Z
DTEND:20180206T213000Z
X-MICROSOFT-CDO-ALLDAYEVENT:FALSE
SUMMARY:CUNA MUTUAL RETIREMENT SOLUTIONS BLOODMOBILE
DESCRIPTION:CUNA Mutual Retirement Solutions Bloodmobile - You are invited to make your appointment today! Call 1-800-RED-CROSS OR LOGIN TO redcrossblood.org to schedule your appointment.
X-ALT-DESC;FMTTYPE=text/html:CUNA Mutual Retirement Solutions Bloodmobile - You are invited to make your appointment today! Call 1-800-RED-CROSS OR LOGIN TO redcrossblood.org to schedule your appointment.
LOCATION:CUNA Parking Lot 1809 24th St. Great Bend\, KS 67530
UID:e.2303.3667
SEQUENCE:3
DTSTAMP:20260422T082139Z
URL:https://members.greatbend.org/events/details/cuna-mutual-retirement-solutions-bloodmobile-3667
END:VEVENT

END:VCALENDAR
