BEGIN:VCALENDAR
VERSION:2.0
PRODID:-//ChamberMaster//Event Calendar 2.0//EN
METHOD:PUBLISH
X-PUBLISHED-TTL:P3D
REFRESH-INTERVAL:P3D
CALSCALE:GREGORIAN
BEGIN:VEVENT
DTSTART:20220607T160000Z
DTEND:20220607T180000Z
X-MICROSOFT-CDO-ALLDAYEVENT:FALSE
SUMMARY:Customer Appreciation Lunch at Landmark National Bank
DESCRIPTION:LANDMARK HOSTS CUSTOMER APPRECIATION EVENT\n\n\n\nLandmark National Bank says "Thank You!" to our customers and neighbors with a customer appreciation lunch on Tuesday\, June 7th\, from 11am to 1pm.\n\n\n\nThe lunch will be at Landmark's downtown locations at 1623 Main St. in Great Bend\, Ks. \n\n\n\nYour local favorite food truck Yo Dog Weiners will be serving up hot dogs\, chips and drinks!
X-ALT-DESC;FMTTYPE=text/html:<span style="font-size:16px\;"><strong><u>LANDMARK HOSTS CUSTOMER APPRECIATION EVENT</u></strong></span><br />\n<br />\nLandmark National Bank says &quot\;Thank You!&quot\; to our customers and neighbors with a customer appreciation lunch on Tuesday\, June 7th\, from 11am to 1pm.<br />\n<br />\nThe lunch will be at Landmark&#39\;s downtown locations at 1623 Main St. in Great Bend\, Ks.&nbsp\;<br />\n<br />\nYour local favorite food truck Yo Dog Weiners will be serving up hot dogs\, chips and drinks!<br />\n<br />\n&nbsp\;
LOCATION:1623 Main St.\, Great Bend\, Ks
UID:e.2303.10285
SEQUENCE:3
DTSTAMP:20260422T224217Z
URL:https://members.greatbend.org/events/details/customer-appreciation-lunch-at-landmark-national-bank-10285
END:VEVENT

END:VCALENDAR
