BEGIN:VCALENDAR
VERSION:2.0
PRODID:-//ChamberMaster//Event Calendar 2.0//EN
METHOD:PUBLISH
X-PUBLISHED-TTL:P3D
REFRESH-INTERVAL:P3D
CALSCALE:GREGORIAN
BEGIN:VEVENT
DTSTART:20230203T003000Z
DTEND:20230203T013000Z
X-MICROSOFT-CDO-ALLDAYEVENT:FALSE
SUMMARY:Dancing with the Cougars Fundraiser
DESCRIPTION:Social Dance Series Fundraiser series "Waltz and Foxtrot" with all proceeds going to support the Barton Dance Theatre's trip to the American College Dance Festival. $10 per person with additional donations accepted.
X-ALT-DESC;FMTTYPE=text/html:<span style="color: rgb(34\, 34\, 34)\; font-family: Arial\, Helvetica\, sans-serif\; font-size: small\;">Social Dance Series Fundraiser series &ldquo\;Waltz and Foxtrot&rdquo\; with all proceeds going to support the Barton Dance Theatre&rsquo\;s trip to the American College Dance Festival. $10 per person with additional donations accepted.</span>
LOCATION:Studio 34\, 245 NE 30 Rd.
UID:e.2303.11621
SEQUENCE:3
DTSTAMP:20260424T213828Z
URL:https://members.greatbend.org/events/details/dancing-with-the-cougars-fundraiser-11621
END:VEVENT

END:VCALENDAR
