BEGIN:VCALENDAR
VERSION:2.0
PRODID:-//ChamberMaster//Event Calendar 2.0//EN
METHOD:PUBLISH
X-PUBLISHED-TTL:P3D
REFRESH-INTERVAL:P3D
CALSCALE:GREGORIAN
BEGIN:VEVENT
DTSTART:20170422T130000Z
DTEND:20170422T170000Z
X-MICROSOFT-CDO-ALLDAYEVENT:FALSE
SUMMARY:Dash for Dogs and Kids
DESCRIPTION:We invite all participants to run/walk with a dog. If you have a pup feel free to bring them along to run/walk with you. If you do not have a pup or would like to run/walk with a pup from the Golden Belt Humane Society we invite you to do so. The dogs will enjoy spending time with you and getting exercise.\n\n\n\nThe race will be held at Vets Park with sign in beginning at 8am on Saturday\, April 22nd.\n\n\n\nThe cost of the race is $25 per runner. T-shirt provided with entry fee. \n\n\n\nAll proceeds split between Children's Miracle Network and Golden Belt Humane Society.\n\n\n\nSign up early at www. runfordogsandkids.weebly.com
X-ALT-DESC;FMTTYPE=text/html:<span style="color: rgb(13\, 6\, 0)\; font-family: Georgia\; font-size: 13.3333px\;">We invite all participants to run/walk with a dog. If you have a pup feel free to bring them along to run/walk with you. If you do not have a pup or would like to run/walk with a pup from the Golden Belt Humane Society we invite you to do so. The dogs will enjoy spending time with you and getting exercise.</span><br style="color: rgb(13\, 6\, 0)\; font-family: Georgia\; font-size: 13.3333px\;" />\n<br style="color: rgb(13\, 6\, 0)\; font-family: Georgia\; font-size: 13.3333px\;" />\n<span style="color: rgb(13\, 6\, 0)\; font-family: Georgia\; font-size: 13.3333px\;">The race will be held at Vets Park with sign in beginning at 8am on Saturday\, April 22nd.</span><br style="color: rgb(13\, 6\, 0)\; font-family: Georgia\; font-size: 13.3333px\;" />\n<br style="color: rgb(13\, 6\, 0)\; font-family: Georgia\; font-size: 13.3333px\;" />\n<span style="color: rgb(13\, 6\, 0)\; font-family: Georgia\; font-size: 13.3333px\;">The cost of the race is $25 per runner. T-shirt provided with entry fee.&nbsp\;</span><br style="color: rgb(13\, 6\, 0)\; font-family: Georgia\; font-size: 13.3333px\;" />\n<br style="color: rgb(13\, 6\, 0)\; font-family: Georgia\; font-size: 13.3333px\;" />\n<span style="color: rgb(13\, 6\, 0)\; font-family: Georgia\; font-size: 13.3333px\;">All proceeds split between Children&#39\;s Miracle Network and Golden Belt Humane Society.</span><br style="color: rgb(13\, 6\, 0)\; font-family: Georgia\; font-size: 13.3333px\;" />\n<br style="color: rgb(13\, 6\, 0)\; font-family: Georgia\; font-size: 13.3333px\;" />\n<span style="color: rgb(13\, 6\, 0)\; font-family: Georgia\; font-size: 13.3333px\;">Sign up early at www. runfordogsandkids.weebly.com</span>
LOCATION:Vets Park Great Bend
UID:e.2303.1008
SEQUENCE:3
DTSTAMP:20260422T221525Z
URL:https://members.greatbend.org/events/details/dash-for-dogs-and-kids-1008
END:VEVENT

END:VCALENDAR
