BEGIN:VCALENDAR
VERSION:2.0
PRODID:-//ChamberMaster//Event Calendar 2.0//EN
METHOD:PUBLISH
X-PUBLISHED-TTL:P3D
REFRESH-INTERVAL:P3D
CALSCALE:GREGORIAN
BEGIN:VEVENT
DTSTART:20180223T013000Z
DTEND:20180223T033000Z
X-MICROSOFT-CDO-ALLDAYEVENT:FALSE
SUMMARY:Death Trap Performance by GB Community Theater
DESCRIPTION:Great Bend Community Theater Presents Death Trap by Ira Levin\n\n\n\nSidney Bruhl\, a successful writer of Broadway thrillers\, is struggling to overcome a dry spell which has resulted in a string of failures and a shortage of funds. Until\, he receives a script from a student\, which Sidney recognizes could be a potential Broadway hit. Sidney devises a plan to offer collaboration to the student. Thereafter suspense mounts steadily as the plot begins to twist and turn with devilish cleverness\, and with many thrills and laughter\, the audience will be enthralled until the final\, startling last moments of the play.
X-ALT-DESC;FMTTYPE=text/html:<span style="font-family:arial\;"><span style="font-size:14px\;">Great Bend Community Theater Presents Death Trap by Ira Levin<br />\n<br />\n<span style="color: rgb(0\, 0\, 0)\; font-style: italic\; text-align: center\;">Sidney Bruhl\, a successful writer of Broadway thrillers\, is struggling to overcome a dry spell which has resulted in a string of failures and a shortage of funds. Until\, he receives a script from a student\, which Sidney recognizes could be a potential Broadway hit. Sidney devises a plan to offer collaboration to the student. Thereafter suspense mounts steadily as the plot begins to twist and turn with devilish cleverness\, and with many thrills and laughter\, the audience will be enthralled until the final\, startling last moments of the play.</span></span></span>
LOCATION:Crest Theater 1905 Lakin Great Bend\, KS 67530
UID:e.2303.3316
SEQUENCE:3
DTSTAMP:20260422T082555Z
URL:https://members.greatbend.org/events/details/death-trap-performance-by-gb-community-theater-3316
END:VEVENT

END:VCALENDAR
