BEGIN:VCALENDAR
VERSION:2.0
PRODID:-//ChamberMaster//Event Calendar 2.0//EN
METHOD:PUBLISH
X-PUBLISHED-TTL:P3D
REFRESH-INTERVAL:P3D
CALSCALE:GREGORIAN
BEGIN:VEVENT
DTSTART:20180224T160000Z
DTEND:20180224T210000Z
X-MICROSOFT-CDO-ALLDAYEVENT:FALSE
SUMMARY:Dilly & Doc Furniture Flip
DESCRIPTION:Saturday\, February 24th\, 10:00 am - 3:00 pm Cost: $75.00 @ Dilly & Doc 1119 Main Street\, Great Bend\, KS Bring a piece of furniture you have that you would like to transform into something you could use and enjoy once again. Together we will bring it back to life. We will have everything you will need to do this. Just let us know the color you would like to paint it and we will have it ready for you. You can put it in the message when checking out or call 620/786-1241. Either way is fine. All of the colors are at Forest Ave. Antiques to view or on our fb page. You will love the finished product. We will also provide lunch\, water\, coffee\, and some snacks! Please register by clicking on the link below to secure your spot for the day! https://squareup.com/store/dilly-doc/item/chalk-paint-furniture-flip
X-ALT-DESC;FMTTYPE=text/html:Saturday\, February 24th\, 10:00 am - 3:00 pm Cost: $75.00 @ Dilly &amp\; Doc 1119 Main Street\, Great Bend\, KS Bring a piece of furniture you have that you would like to transform into something you could use and enjoy once again. Together we will bring it back to life. We will have everything you will need to do this. Just let us know the color you would like to paint it and we will have it ready for you. You can put it in the message when checking out or call 620/786-1241. Either way is fine. All of the colors are at Forest Ave. Antiques to view or on our fb page. You will love the finished product. We will also provide lunch\, water\, coffee\, and some snacks! Please register by clicking on the link below to secure your spot for the day! https://squareup.com/store/dilly-doc/item/chalk-paint-furniture-flip
LOCATION:1119 Main St.
UID:e.2303.3675
SEQUENCE:3
DTSTAMP:20260420T082834Z
URL:https://members.greatbend.org/events/details/dilly-doc-furniture-flip-3675
END:VEVENT

END:VCALENDAR
