BEGIN:VCALENDAR
VERSION:2.0
PRODID:-//ChamberMaster//Event Calendar 2.0//EN
METHOD:PUBLISH
X-PUBLISHED-TTL:P3D
REFRESH-INTERVAL:P3D
CALSCALE:GREGORIAN
BEGIN:VEVENT
DTSTART:20180227T010000Z
DTEND:20180227T030000Z
X-MICROSOFT-CDO-ALLDAYEVENT:FALSE
SUMMARY:Dilly & Doc Pick your own Project
DESCRIPTION:Pick your project wood door/wall hanger class Monday\, February 26th\, 7:00 p.m. Cost: $35.00 @Dilly & Doc 1119 Main Street\, Great Bend\, KS Come and join us for a fun evening of painting and creating a super cute door hanger or decoration for your home. I have ALL kinds of shapes\, bunnies\, eggs\, mason Jars\, pickup's & crosses. Let me know in advance if you know what you want to paint and I will save it for you. I will have everything you will need to complete the project. Just bring yourself and a beverage if you would like! Please click on the link below to secure your spot: https://squareup.com/store/dilly-doc/item/pick-your-fall-project-wood-class
X-ALT-DESC;FMTTYPE=text/html:Pick your project wood door/wall hanger class Monday\, February 26th\, 7:00 p.m. Cost: $35.00 @Dilly &amp\; Doc 1119 Main Street\, Great Bend\, KS Come and join us for a fun evening of painting and creating a super cute door hanger or decoration for your home. I have ALL kinds of shapes\, bunnies\, eggs\, mason Jars\, pickup&#39\;s &amp\; crosses. Let me know in advance if you know what you want to paint and I will save it for you. I will have everything you will need to complete the project. Just bring yourself and a beverage if you would like! Please click on the link below to secure your spot: https://squareup.com/store/dilly-doc/item/pick-your-fall-project-wood-class
LOCATION:1119 Main St.
UID:e.2303.3676
SEQUENCE:3
DTSTAMP:20260422T081949Z
URL:https://members.greatbend.org/events/details/dilly-doc-pick-your-own-project-3676
END:VEVENT

END:VCALENDAR
