BEGIN:VCALENDAR
VERSION:2.0
PRODID:-//ChamberMaster//Event Calendar 2.0//EN
METHOD:PUBLISH
X-PUBLISHED-TTL:P3D
REFRESH-INTERVAL:P3D
CALSCALE:GREGORIAN
BEGIN:VEVENT
DTSTART:20171024T220000Z
DTEND:20171025T020000Z
X-MICROSOFT-CDO-ALLDAYEVENT:FALSE
SUMMARY:Dine United
DESCRIPTION:Dine In\, Carry-Out\, or Delivery....Pizza Hut has you covered! Get a delicious dinner from either Pizza Hut location in Great Bend on October 24th and a portion of the proceeds will benefit UWCK! Take a night off from cooking and support a great cause at the same time!
X-ALT-DESC;FMTTYPE=text/html:Dine In\, Carry-Out\, or Delivery....Pizza Hut has you covered! Get a delicious dinner from either Pizza Hut location in Great Bend on October 24th and a portion of the proceeds will benefit UWCK! Take a night off from cooking and support a great cause at the same time!
LOCATION:Great Bend Pizza Hut 2006 Main St 4101 10th St
UID:e.2303.3410
SEQUENCE:3
DTSTAMP:20260422T132748Z
URL:https://members.greatbend.org/events/details/dine-united-10-24-2017-3410
END:VEVENT

END:VCALENDAR
