BEGIN:VCALENDAR
VERSION:2.0
PRODID:-//ChamberMaster//Event Calendar 2.0//EN
METHOD:PUBLISH
X-PUBLISHED-TTL:P3D
REFRESH-INTERVAL:P3D
CALSCALE:GREGORIAN
BEGIN:VEVENT
DTSTART;VALUE=DATE:20171214
DTEND;VALUE=DATE:20171215
TRANSP:TRANSPARENT
X-MICROSOFT-CDO-ALLDAYEVENT:TRUE
SUMMARY:Dine United
DESCRIPTION:Place an order with My Town 2 Go-Great Bend and 10% of the proceeds will benefit UWCK! Get hot\, delicious food delivered to your door from your favorite restaurants and support a great cause at the same time!
X-ALT-DESC;FMTTYPE=text/html:Place an order with My Town 2 Go-Great Bend and 10% of the proceeds will benefit UWCK! Get hot\, delicious food delivered to your door from your favorite restaurants and support a great cause at the same time!
LOCATION:Great Bend
UID:e.2303.3434
SEQUENCE:3
DTSTAMP:20260422T092602Z
URL:https://members.greatbend.org/events/details/dine-united-12-14-2017-3434
END:VEVENT

END:VCALENDAR
