BEGIN:VCALENDAR
VERSION:2.0
PRODID:-//ChamberMaster//Event Calendar 2.0//EN
METHOD:PUBLISH
X-PUBLISHED-TTL:P3D
REFRESH-INTERVAL:P3D
CALSCALE:GREGORIAN
BEGIN:VEVENT
DTSTART:20171213T173000Z
DTEND:20171213T193000Z
X-MICROSOFT-CDO-ALLDAYEVENT:FALSE
SUMMARY:Dine United Holiday Luncheon
DESCRIPTION:To Register\, Copy & Paste this URL: https://www.uwck.org/civicrm/event/register?id=133&reset=1 Join United Way of Central Kansas for an Elegant Holiday Luncheon hosted by Stoneridge Country Club. Small office staff and no idea what to do for Holiday Party? Group of friends that wants to get together before the Holidays? You can relax! Let UWCK and Stoneridge Country Club provide an elegant backdrop and delicious menu for you to enjoy. Visiting Guest Chef David\, graduate of the Baltimore International Culinary College has put together a delectable lunch which includes: Entree of Roasted Pork Dijonaise and Chicken Normandy with Apple Brandy Side Dishes of Herbed Rice Pilaf\, Roasted Red Potatoes with Rosemary & Garlic\, and Citrus Steamed Green Beans Holiday Salad with Greens\, Cranraisins\, Tomatoes\, Shredded Carrots\, & Red Onion with Vinaigarette Porterhouse Dinner Roll And finish it all off with Holiday Creme Brulee for dessert Cash bar will be available for those that would enjoy a holiday spirit\, but water\, tea\, and a holiday punch will be served with the meal. Get your reservation booked for a relaxing and enjoyable Holiday Luncheon at Stoneridge Country Club. There are only 150 seats available for purchase.
X-ALT-DESC;FMTTYPE=text/html:To Register\, Copy &amp\; Paste this URL: https://www.uwck.org/civicrm/event/register?id=133&amp\;reset=1 Join United Way of Central Kansas for an Elegant Holiday Luncheon hosted by Stoneridge Country Club. Small office staff and no idea what to do for Holiday Party? Group of friends that wants to get together before the Holidays? You can relax! Let UWCK and Stoneridge Country Club provide an elegant backdrop and delicious menu for you to enjoy. Visiting Guest Chef David\, graduate of the Baltimore International Culinary College has put together a delectable lunch which includes: Entree of Roasted Pork Dijonaise and Chicken Normandy with Apple Brandy Side Dishes of Herbed Rice Pilaf\, Roasted Red Potatoes with Rosemary &amp\; Garlic\, and Citrus Steamed Green Beans Holiday Salad with Greens\, Cranraisins\, Tomatoes\, Shredded Carrots\, &amp\; Red Onion with Vinaigarette Porterhouse Dinner Roll And finish it all off with Holiday Creme Brulee for dessert Cash bar will be available for those that would enjoy a holiday spirit\, but water\, tea\, and a holiday punch will be served with the meal. Get your reservation booked for a relaxing and enjoyable Holiday Luncheon at Stoneridge Country Club. There are only 150 seats available for purchase.
LOCATION:Stoneridge Country Club 1438 24th St. Great Bend\, KS
UID:e.2303.3499
SEQUENCE:3
DTSTAMP:20260420T110114Z
URL:https://members.greatbend.org/events/details/dine-united-holiday-luncheon-3499
END:VEVENT

END:VCALENDAR
