BEGIN:VCALENDAR
VERSION:2.0
PRODID:-//ChamberMaster//Event Calendar 2.0//EN
METHOD:PUBLISH
X-PUBLISHED-TTL:P3D
REFRESH-INTERVAL:P3D
CALSCALE:GREGORIAN
BEGIN:VEVENT
DTSTART:20230228T010000Z
DTEND:20230228T023000Z
X-MICROSOFT-CDO-ALLDAYEVENT:FALSE
SUMMARY:Dockum Drugstore Sit-In Program
DESCRIPTION:The Barton County Historical Society welcomes Prisca Barnes to present on the Dockum Drugstore Sit-In. In 1958\, Wichita's Black students organized and staged a sit-in at Wichita's Dockum Drugstore\, seeking racial equity and an end to segregation. Long denied entry into the city's movie theaters and restaurants\, students exercised their right to peacefully protest over a three-week period at the popular lunch counter. What transpired\, how it ended\, and the lasting impact it had on race relations in the city is the focus of this talk. More broadly\, the talk will explore how these types of protests transformed the struggle for racial equity in America. Priscia Barnes is the founder of Storytime Village Inc.\, a nonprofit organization in Wichita that promotes reading among low0income children and families. She is a passionate advocate for equity in education and literacy. Admission for this event is free thanks to Humanities Kansas. Doors open at 6:30pm and the program will begin at 7pm\, light refreshments are provided.
X-ALT-DESC;FMTTYPE=text/html:The Barton County Historical Society welcomes Prisca Barnes to present on the Dockum Drugstore Sit-In. In 1958\, Wichita&rsquo\;s Black students organized and staged a sit-in at Wichita&rsquo\;s Dockum Drugstore\, seeking racial equity and an end to segregation. Long denied entry into the city&rsquo\;s movie theaters and restaurants\, students exercised their right to peacefully protest over a three-week period at the popular lunch counter. What transpired\, how it ended\, and the lasting impact it had on race relations in the city is the focus of this talk. More broadly\, the talk will explore how these types of protests transformed the struggle for racial equity in America. Priscia Barnes is the founder of Storytime Village Inc.\, a nonprofit organization in Wichita that promotes reading among low0income children and families. She is a passionate advocate for equity in education and literacy. Admission for this event is free thanks to Humanities Kansas. Doors open at 6:30pm and the program will begin at 7pm\, light refreshments are provided.
LOCATION:Barton County Historical Society
UID:e.2303.11656
SEQUENCE:3
DTSTAMP:20260424T214402Z
URL:https://members.greatbend.org/events/details/dockum-drugstore-sit-in-program-11656
END:VEVENT

END:VCALENDAR
