BEGIN:VCALENDAR
VERSION:2.0
PRODID:-//ChamberMaster//Event Calendar 2.0//EN
METHOD:PUBLISH
X-PUBLISHED-TTL:P3D
REFRESH-INTERVAL:P3D
CALSCALE:GREGORIAN
BEGIN:VEVENT
DTSTART:20201026T220000Z
DTEND:20201027T000000Z
X-MICROSOFT-CDO-ALLDAYEVENT:FALSE
SUMMARY:Drive-Thru BBQ
DESCRIPTION:The Hoisington Chamber of Commerce would like to make dinner for you and your family on Monday\, October 26th! Let us MAKE your life a little less stressful for just one night. You can pre-order by going to: www.hoisingtonkansas.com/drive-thru-bbq-fundraiser or download the form and mail it in. Not sure you want to pre-order? That's ok too\, just drive up and we will serve until we run out.
X-ALT-DESC;FMTTYPE=text/html:The Hoisington Chamber of Commerce would like to make dinner for you and your family on Monday\, October 26th! Let us MAKE your life a little less stressful for just one night. You can pre-order by going to: www.hoisingtonkansas.com/drive-thru-bbq-fundraiser or download the form and mail it in. Not sure you want to pre-order? That&#39\;s ok too\, just drive up and we will serve until we run out.
LOCATION:Parking Lot behind Emmanuel Lutheran Church
UID:e.2303.8069
SEQUENCE:3
DTSTAMP:20260425T122537Z
URL:https://members.greatbend.org/events/details/drive-thru-bbq-8069
END:VEVENT

END:VCALENDAR
