BEGIN:VCALENDAR
VERSION:2.0
PRODID:-//ChamberMaster//Event Calendar 2.0//EN
METHOD:PUBLISH
X-PUBLISHED-TTL:P3D
REFRESH-INTERVAL:P3D
CALSCALE:GREGORIAN
BEGIN:VEVENT
DTSTART:20180117T210000Z
DTEND:20180118T000000Z
X-MICROSOFT-CDO-ALLDAYEVENT:FALSE
SUMMARY:Eagle Radio Career Fair
DESCRIPTION:Attend the Career Fair and connect with companies who are looking for employees to fill positions listed below! More businesses are being added.\n\n\n\nParticipating Companies Include:\n\n	Sunflower Diversified Services (Drivers\, Early Interventionist\, Day Services\, Day Employment Services)\n	Fuller Industries (Material Handler\, Inventory Control Coordinator)\n	Straub International (Service Techs\, Parts People)\n	City of Great Bend (Crossing Guards/Police Department\, PT Associate Zookeeper\, Police Officer\, Firefighter-EMT\, Service Person I (WPC Dept))
X-ALT-DESC;FMTTYPE=text/html:Attend the Career Fair and connect with companies who are looking for employees to fill positions listed below! More businesses are being added.<br />\n<br />\nParticipating Companies Include:\n<ul>\n	<li>Sunflower Diversified Services (Drivers\, Early Interventionist\, Day Services\, Day Employment Services)</li>\n	<li>Fuller Industries (Material Handler\, Inventory Control Coordinator)</li>\n	<li>Straub International (Service Techs\, Parts People)</li>\n	<li>City of Great Bend (Crossing Guards/Police Department\, PT Associate Zookeeper\, Police Officer\, Firefighter-EMT\, Service Person I (WPC Dept))</li>\n</ul>\n
LOCATION:KANSASWORKS 1025 Main St. Great Bend\, KS
UID:e.2303.3625
SEQUENCE:3
DTSTAMP:20260422T092724Z
URL:https://members.greatbend.org/events/details/eagle-radio-career-fair-3625
END:VEVENT

END:VCALENDAR
