BEGIN:VCALENDAR
VERSION:2.0
PRODID:-//ChamberMaster//Event Calendar 2.0//EN
METHOD:PUBLISH
X-PUBLISHED-TTL:P3D
REFRESH-INTERVAL:P3D
CALSCALE:GREGORIAN
BEGIN:VEVENT
DTSTART:20171019T133000Z
DTEND:20171019T163000Z
X-MICROSOFT-CDO-ALLDAYEVENT:FALSE
SUMMARY:Eagle Technology Solutions FREE Technology Workshop
DESCRIPTION:Save The Date for this FREE workshop focusing on your business technology needs. Learn how to protect your data and secure your business network. Reserve your spot by calling 1-855-51-EAGLE
X-ALT-DESC;FMTTYPE=text/html:Save The Date for this FREE workshop focusing on your business technology needs. Learn how to protect your data and secure your business network. Reserve your spot by calling 1-855-51-EAGLE
LOCATION:Front Door Community Center 1615 10th Street Great Bend\, KS
UID:e.2303.3394
SEQUENCE:3
DTSTAMP:20260422T130809Z
URL:https://members.greatbend.org/events/details/eagle-technology-solutions-free-technology-workshop-3394
END:VEVENT

END:VCALENDAR
