BEGIN:VCALENDAR
VERSION:2.0
PRODID:-//ChamberMaster//Event Calendar 2.0//EN
METHOD:PUBLISH
X-PUBLISHED-TTL:P3D
REFRESH-INTERVAL:P3D
CALSCALE:GREGORIAN
BEGIN:VEVENT
DTSTART:20260328T000000Z
DTEND:20260328T020000Z
X-MICROSOFT-CDO-ALLDAYEVENT:FALSE
SUMMARY:Echoes From the Past: The She Gees
DESCRIPTION:Today The She Gees are preforming. This electrifying female-led tribute to The Bee Gees will have you dancing and singing along to all of your favorite hits\, from "Stayin' Alive" to "Night Fever."\n\nThe Golden Belt Community Concert Association's 2025-2026 Membership Campaign begins April 5. The concerts for the new season offer music from most genres from the '50s to the '80s -- jazz\, cinema\, swing\, pop\, rock and roll\, blues\, Motown\, Doo Wop\, Broadway -- plus a brass quintet with a mix of classical\, opera\, jazz\, pop and non-stop showmanship.\n\nYou must be a member of the Golden Belt  Community Concert Association to attend these concerts.
X-ALT-DESC;FMTTYPE=text/html:Today The She Gees are preforming.&nbsp\;This electrifying female-led tribute to The Bee Gees will have you dancing and singing along to all of your favorite hits\, from &ldquo\;Stayin&rsquo\; Alive&rdquo\; to &ldquo\;Night Fever.&rdquo\;<br />\nThe Golden Belt Community Concert Association&rsquo\;s 2025-2026 Membership Campaign begins April 5. The concerts for the new season offer music from most genres from the &rsquo\;50s to the &rsquo\;80s -- jazz\, cinema\, swing\, pop\, rock and roll\, blues\, Motown\, Doo Wop\, Broadway -- plus a brass quintet with a mix of classical\, opera\, jazz\, pop and non-stop showmanship.<br />\n<strong>You must be a member of the Golden Belt&nbsp\; Community Concert Association to attend these concerts.</strong>
LOCATION:Great Bend Municipal Auditorium\, Lakin and Stone
UID:e.2303.16573
SEQUENCE:3
DTSTAMP:20260419T124326Z
URL:https://members.greatbend.org/events/details/echoes-from-the-past-the-she-gees-16573
END:VEVENT

END:VCALENDAR
