BEGIN:VCALENDAR
VERSION:2.0
PRODID:-//ChamberMaster//Event Calendar 2.0//EN
METHOD:PUBLISH
X-PUBLISHED-TTL:P3D
REFRESH-INTERVAL:P3D
CALSCALE:GREGORIAN
BEGIN:VEVENT
DTSTART:20260418T000000Z
DTEND:20260418T020000Z
X-MICROSOFT-CDO-ALLDAYEVENT:FALSE
SUMMARY:Echoes From the Past: The Suits
DESCRIPTION:Today The Suits are preforming. The Suits are comprised of four dynamic gentlemen performing four genres of hit music from the '50s through the '80s: Motown\, Doo Wop\, Pop and Rock.\n\nThe Golden Belt Community Concert Association's 2025-2026 Membership Campaign begins April 5. The concerts for the new season offer music from most genres from the '50s to the '80s -- jazz\, cinema\, swing\, pop\, rock and roll\, blues\, Motown\, Doo Wop\, Broadway -- plus a brass quintet with a mix of classical\, opera\, jazz\, pop and non-stop showmanship.\n\nYou must be a member of the Golden Belt  Community Concert Association to attend these concerts.
X-ALT-DESC;FMTTYPE=text/html:Today The Suits are preforming. The Suits are comprised of four dynamic gentlemen performing four genres of hit music from the &lsquo\;50s through the &lsquo\;80s: Motown\, Doo Wop\, Pop and Rock.<br />\nThe Golden Belt Community Concert Association&rsquo\;s 2025-2026 Membership Campaign begins April 5. The concerts for the new season offer music from most genres from the &rsquo\;50s to the &rsquo\;80s -- jazz\, cinema\, swing\, pop\, rock and roll\, blues\, Motown\, Doo Wop\, Broadway -- plus a brass quintet with a mix of classical\, opera\, jazz\, pop and non-stop showmanship.<br />\n<strong>You must be a member of the Golden Belt&nbsp\; Community Concert Association to attend these concerts.</strong>
LOCATION:Great Bend Municipal Auditorium\, Lakin and Stone
UID:e.2303.16574
SEQUENCE:3
DTSTAMP:20260421T134546Z
URL:https://members.greatbend.org/events/details/echoes-from-the-past-the-suits-16574
END:VEVENT

END:VCALENDAR
