BEGIN:VCALENDAR
VERSION:2.0
PRODID:-//ChamberMaster//Event Calendar 2.0//EN
METHOD:PUBLISH
X-PUBLISHED-TTL:P3D
REFRESH-INTERVAL:P3D
CALSCALE:GREGORIAN
BEGIN:VEVENT
DTSTART:20170423T140000Z
DTEND:20170423T210000Z
X-MICROSOFT-CDO-ALLDAYEVENT:FALSE
SUMMARY:Eighth Annual Barton Foundation Sporting Clay Shoot Fundraiser
DESCRIPTION:Fundraiser for Barton faculty mini-grants\; competition for individuals or three-person teams\; entry fee is $65 per person. Lunch is provided for those who pre-register by April 12. Fees include 100 round sporting clays. Additional lunches can be purchased at the time of registration for $10 (if registered by April 12).
X-ALT-DESC;FMTTYPE=text/html:<span style="color: rgb(13\, 6\, 0)\; font-family: Georgia\; font-size: 13.3333px\;">Fundraiser for Barton faculty mini-grants\; competition for individuals or three-person teams\; entry fee is $65 per person. Lunch is provided for those who pre-register by April 12. Fees include 100 round sporting clays. Additional lunches can be purchased at the time of registration for $10 (if registered by April 12).</span>
LOCATION:Camp Aldrich 884 NE 110 Ave. Claflin
UID:e.2303.1015
SEQUENCE:3
DTSTAMP:20260422T222758Z
URL:https://members.greatbend.org/events/details/eighth-annual-barton-foundation-sporting-clay-shoot-fundraiser-1015
END:VEVENT

END:VCALENDAR
