BEGIN:VCALENDAR
VERSION:2.0
PRODID:-//ChamberMaster//Event Calendar 2.0//EN
METHOD:PUBLISH
X-PUBLISHED-TTL:P3D
REFRESH-INTERVAL:P3D
CALSCALE:GREGORIAN
BEGIN:VEVENT
DTSTART:20240620T050000Z
DTEND:20240621T045500Z
X-MICROSOFT-CDO-ALLDAYEVENT:FALSE
SUMMARY:Ellinwood Hospital & Clinic 5k Shirt Deadline
DESCRIPTION:Deadline for a guaranteed shirt for the After Harvest Fest 5k hosted by Ellinwood Hospital & Clinic!
X-ALT-DESC;FMTTYPE=text/html:Deadline for a guaranteed shirt for the After Harvest Fest 5k hosted by Ellinwood Hospital &amp\; Clinic!
LOCATION:
UID:e.2303.13637
SEQUENCE:3
DTSTAMP:20260425T221316Z
URL:https://members.greatbend.org/events/details/ellinwood-hospital-clinic-5k-shirt-deadline-13637
END:VEVENT

END:VCALENDAR
