BEGIN:VCALENDAR
VERSION:2.0
PRODID:-//ChamberMaster//Event Calendar 2.0//EN
METHOD:PUBLISH
X-PUBLISHED-TTL:P3D
REFRESH-INTERVAL:P3D
CALSCALE:GREGORIAN
BEGIN:VEVENT
DTSTART:20170930T123000Z
DTEND:20170930T190000Z
X-MICROSOFT-CDO-ALLDAYEVENT:FALSE
SUMMARY:Ellinwood Hospital Foundation 2nd Annual Golf Tournament and Golf Ball Drop
DESCRIPTION:Support the Ellinwood Hospital Foundation while enjoying a beautiful day on the links! Don't miss this opportunity to improve your game and support your local hospital!\n\n\n\nCOST\n\n$75/player: Includes golf\, 1 raffle ticket\, goodie bag\, food and beverages\n\n$15/Lunch Only: Not a golfer? Come for lunch! Stay for fun! Includes 1 raffle ticket\n\n\n\nSCHEDULE\n\n7:30am Check-In and Breakfast\n\n8:30am Shotgun Start\n\n12:00pm BBQ Lunch - Public Welcome\n\n1:00pm Raffles Prizes\, Golf Tournament Awards\, followed by Golf Ball Drop - Win $1\,000!!\n\n\n\nPROCEEDS\n\nAll funds raised by this event support Ellinwood Hospital Foundation projects for the benefit of Ellinwood Hospital and Clinic.
X-ALT-DESC;FMTTYPE=text/html:<span style="color: rgb(13\, 6\, 0)\; font-family: Georgia\; font-size: 13.3333px\;">Support the Ellinwood Hospital Foundation while enjoying a beautiful day on the links! Don&rsquo\;t miss this opportunity to improve your game and support your local hospital!</span><br style="color: rgb(13\, 6\, 0)\; font-family: Georgia\; font-size: 13.3333px\;" />\n<br style="color: rgb(13\, 6\, 0)\; font-family: Georgia\; font-size: 13.3333px\;" />\n<span style="color: rgb(13\, 6\, 0)\; font-family: Georgia\; font-size: 13.3333px\;">COST</span><br style="color: rgb(13\, 6\, 0)\; font-family: Georgia\; font-size: 13.3333px\;" />\n<span style="color: rgb(13\, 6\, 0)\; font-family: Georgia\; font-size: 13.3333px\;">$75/player: Includes golf\, 1 raffle ticket\, goodie bag\, food and beverages</span><br style="color: rgb(13\, 6\, 0)\; font-family: Georgia\; font-size: 13.3333px\;" />\n<span style="color: rgb(13\, 6\, 0)\; font-family: Georgia\; font-size: 13.3333px\;">$15/Lunch Only: Not a golfer? Come for lunch! Stay for fun! Includes 1 raffle ticket</span><br style="color: rgb(13\, 6\, 0)\; font-family: Georgia\; font-size: 13.3333px\;" />\n<br style="color: rgb(13\, 6\, 0)\; font-family: Georgia\; font-size: 13.3333px\;" />\n<span style="color: rgb(13\, 6\, 0)\; font-family: Georgia\; font-size: 13.3333px\;">SCHEDULE</span><br style="color: rgb(13\, 6\, 0)\; font-family: Georgia\; font-size: 13.3333px\;" />\n<span style="color: rgb(13\, 6\, 0)\; font-family: Georgia\; font-size: 13.3333px\;">7:30am Check-In and Breakfast</span><br style="color: rgb(13\, 6\, 0)\; font-family: Georgia\; font-size: 13.3333px\;" />\n<span style="color: rgb(13\, 6\, 0)\; font-family: Georgia\; font-size: 13.3333px\;">8:30am Shotgun Start</span><br style="color: rgb(13\, 6\, 0)\; font-family: Georgia\; font-size: 13.3333px\;" />\n<span style="color: rgb(13\, 6\, 0)\; font-family: Georgia\; font-size: 13.3333px\;">12:00pm BBQ Lunch - Public Welcome</span><br style="color: rgb(13\, 6\, 0)\; font-family: Georgia\; font-size: 13.3333px\;" />\n<span style="color: rgb(13\, 6\, 0)\; font-family: Georgia\; font-size: 13.3333px\;">1:00pm Raffles Prizes\, Golf Tournament Awards\, followed by Golf Ball Drop - Win $1\,000!!</span><br style="color: rgb(13\, 6\, 0)\; font-family: Georgia\; font-size: 13.3333px\;" />\n<br style="color: rgb(13\, 6\, 0)\; font-family: Georgia\; font-size: 13.3333px\;" />\n<span style="color: rgb(13\, 6\, 0)\; font-family: Georgia\; font-size: 13.3333px\;">PROCEEDS</span><br style="color: rgb(13\, 6\, 0)\; font-family: Georgia\; font-size: 13.3333px\;" />\n<span style="color: rgb(13\, 6\, 0)\; font-family: Georgia\; font-size: 13.3333px\;">All funds raised by this event support Ellinwood Hospital Foundation projects for the benefit of Ellinwood Hospital and Clinic.</span>
LOCATION:Grove Park Golf Club 407 W 3rd St Ellinwood\, KS 67526
UID:e.2303.1693
SEQUENCE:3
DTSTAMP:20260422T150532Z
URL:https://members.greatbend.org/events/details/ellinwood-hospital-foundation-2nd-annual-golf-tournament-and-golf-ball-drop-1693
END:VEVENT

END:VCALENDAR
