BEGIN:VCALENDAR
VERSION:2.0
PRODID:-//ChamberMaster//Event Calendar 2.0//EN
METHOD:PUBLISH
X-PUBLISHED-TTL:P3D
REFRESH-INTERVAL:P3D
CALSCALE:GREGORIAN
BEGIN:VEVENT
DTSTART:20220601T130000Z
DTEND:20220601T150000Z
X-MICROSOFT-CDO-ALLDAYEVENT:FALSE
SUMMARY:Employer Roundtable: Multi-Generational Management With Mike Henke
DESCRIPTION:A Winning Culture for all Generations with Mike Henke\n\nJoin us for an In-Person Employer Roundtable on Wednesday\, June 1st. This timely discussion is open to all businesses\, members and non-members. The registration fee for the 2-hour roundtable includes breakfast and is sponsored by Landmark National Bank. Registrations must be received by May 25th.\n\n\n\nAbout the Employer Roundtable: \n\nHow do you adjust to the changing times and desires of today's workforce? Blending a team with all generations represented can be a challenge\, but winning strategies will be shared including the latest in retention strategies\, encouraging Mentoring to bridge experience gaps\, and how to utilize the differences that are within your current team!\n\n\n\nMike Henke Bio:\n\nMike Henke is a national speaker who has a passion for building strong teams and has innovative solutions that have helped numerous organizations that are outside of metro areas. Mike has created over 50 innovative training programs\, and his upbeat\, interactive style gets great reviews and provides the solutions to having a Winning Workplace Culture! We hope you'll consider joining us!\n\nA Winning Culture for all Generations with Mike Henke\n\nWednesday\, June 1st  |  8 am - 10 am\n\nLocation: The Page | Meeting Room | 2920 10th Street\n\n\n\nRegistration includes presentation & a light breakfast\n\n$35 for Great Bend Chamber Members\n\n$50 for Non-Members\n\nRegistrations must be received by May 25th.\n\n\n\nHoisington and Ellinwood Chamber Members!\n\nCall for your special Promo Code and receive your registration at the discounted Member's rate!\n\n\n\nSpecial thanks to our event sponsors at Landmark National Bank. With three branch locations in Barton County\, Landmark National Bank is committed to helping the business community in their success and is proud to partner with the Great Bend Chamber of Commerce in bringing such an important topic of discussion to the table.\n\n\n\nGreat Bend Locations:\n\n1623 Main St.\n\n5200 Broadway\n\n\n\nHoisington Location:\n\n623 N. Main St.
X-ALT-DESC;FMTTYPE=text/html:<div style="font-size: small\; color: rgb(34\, 34\, 34)\; font-family: Arial\, Helvetica\, sans-serif\;"><strong>A Winning Culture for all Generations&nbsp\;with Mike Henke</strong></div>\n\n<h3>Join us for an In-Person Employer Roundtable on Wednesday\, June 1st.&nbsp\;This timely discussion is open to all businesses\, members and non-members. The registration fee for the 2-hour roundtable includes breakfast and is sponsored by Landmark National Bank. Registrations must be received by May 25th.</h3>\n\n<h3><br />\n<em><strong>About the Employer Roundtable: </strong></em></h3>\n\n<div style="color: rgb(34\, 34\, 34)\; font-family: Arial\, Helvetica\, sans-serif\; font-size: small\;">How do you adjust to the changing times and desires of today&#39\;s workforce? Blending a team with all generations represented can be a challenge\, but winning strategies will be shared including&nbsp\;the latest in retention strategies\, encouraging Mentoring to bridge experience gaps\, and how to utilize the differences that are within your current team!</div>\n\n<div style="color: rgb(34\, 34\, 34)\; font-family: Arial\, Helvetica\, sans-serif\; font-size: small\;"><br />\n<em><strong>Mike Henke Bio:</strong><br />\nMike Henke is a national speaker who has a passion for building strong teams and has innovative solutions that have helped numerous organizations that are outside of metro areas. Mike has created over 50 innovative training programs\, and his upbeat\, interactive style gets great reviews and provides the solutions to having a Winning Workplace Culture! We hope you&rsquo\;ll consider joining us!</em></div>\n\n<div style="font-size: small\; color: rgb(34\, 34\, 34)\; font-family: Arial\, Helvetica\, sans-serif\;"><strong>A Winning Culture for all Generations&nbsp\;with Mike Henke<br />\nWednesday\, June 1st&nbsp\; |&nbsp\; 8 am - 10 am<br />\nLocation: The Page | Meeting Room | 2920 10th Street<br />\n<br />\nRegistration includes presentation &amp\; a light breakfast</strong><br />\n$35 for Great Bend Chamber Members<br />\n$50 for Non-Members<br />\n<em>Registrations must be received by May 25th.</em><br />\n<br />\n<strong>Hoisington and Ellinwood Chamber Members!</strong><br />\nCall for your special Promo Code and&nbsp\;receive your registration at the discounted Member&#39\;s rate!</div>\n\n<p><br />\nSpecial thanks to our event sponsors at Landmark National Bank. With three branch locations in Barton County\, Landmark National Bank is committed to helping the business community in their success and is proud to partner with the Great Bend Chamber of Commerce in bringing such an important topic of discussion to the table.<br />\n<br />\nGreat Bend Locations:<br />\n<a href="https://www.banklandmark.com/location/great-bend-1/">1623 Main St.</a><br />\n<a href="https://www.banklandmark.com/location/great-bend-2/">5200 Broadway</a><br />\n<br />\nHoisington Location:<br />\n<a href="https://www.banklandmark.com/location/hoisington/">623 N. Main St.</a></p>\n
LOCATION:Location: The Page | Meeting Room | 2920 10th Street
UID:e.2303.9644
SEQUENCE:3
DTSTAMP:20260423T021108Z
URL:https://members.greatbend.org/events/details/employer-roundtable-multi-generational-management-with-mike-henke-9644
END:VEVENT

END:VCALENDAR
