BEGIN:VCALENDAR
VERSION:2.0
PRODID:-//ChamberMaster//Event Calendar 2.0//EN
METHOD:PUBLISH
X-PUBLISHED-TTL:P3D
REFRESH-INTERVAL:P3D
CALSCALE:GREGORIAN
BEGIN:VEVENT
DTSTART:20171031T163000Z
DTEND:20171031T180000Z
X-MICROSOFT-CDO-ALLDAYEVENT:FALSE
SUMMARY:Employer Roundtable: Unemployment Tax - Understanding Regulations
DESCRIPTION:Are you a small business owner? Are you an HR Professional? Do you have employees? If your answer to any of these questions was yes  then the HR Roundtable may be a valuable resource for you! Looking to provide interesting topics and relevant conversation for HR Professionals and Small Business Owners alike\, future luncheons will include a revamped format to encourage conversation\, questions and sharing of "best practices." \n\n\n\nKansas Department of Labor Unemployment Tax: Understanding Regulations\n\nPresented By: Delbert Randolph\, State Auditor II\n\n	Unemployment Insurance (UI) Tax Liabilities\n	Process to Apply for a UI Tax Account\n	Steps for Filing Tax Returns\, New Hire Information\n	State Information Data Exchange System (SIDES and SIDES E-Response)\n	Clarify the difference in classifying a worker as an employee or an Independent Contractor. \n\nRegistration will be open until 12noon on Friday\, October 27th. We hope to see you there!
X-ALT-DESC;FMTTYPE=text/html:<span style="font-size:12px\;"><span style="font-family:arial\;"><span style="color: rgb(13\, 6\, 0)\;">Are you a small business owner? Are you an HR Professional? Do you have employees? If your answer to any of these questions was yes&hellip\; then the HR Roundtable may be a valuable resource for you! Looking to provide interesting topics and relevant conversation for HR Professionals and Small Business Owners alike\, future luncheons will include a revamped format to encourage conversation\, questions and sharing of &ldquo\;best practices.&rdquo\;&nbsp\;</span><br />\n<br />\n<strong>Kansas Department of Labor Unemployment Tax: Understanding Regulations</strong></span></span><br />\n<span style="color: rgb(13\, 6\, 0)\; font-family: arial\; font-size: 12px\;">Presented By: Delbert Randolph\, State Auditor II</span>\n<ul>\n	<li><span style="font-family: arial\; font-size: 12px\; text-indent: -0.25in\;">Unemployment Insurance (UI) Tax Liabilities</span></li>\n	<li><span style="font-family: arial\; font-size: 12px\; text-indent: -0.25in\;">Process to Apply for a UI Tax Account</span></li>\n	<li><span style="font-family: arial\; font-size: 12px\; text-indent: -0.25in\;">Steps for Filing Tax Returns\, New Hire Information</span></li>\n	<li><span style="font-family: arial\; font-size: 12px\; text-indent: -0.25in\;">State Information Data Exchange System (SIDES and SIDES E-Response)</span></li>\n	<li><span style="font-family: arial\; font-size: 12px\; text-indent: -0.25in\;">Clarify the difference in classifying a worker as an employee or an Independent Contractor.&nbsp\;</span></li>\n</ul>\n<span style="font-family: arial\; font-size: 12px\; text-indent: -0.25in\;">Registration will be open until 12noon on Friday\, October 27th. We hope to see you there!</span>
LOCATION:The Page Banquet Room\, 2920 10th Street
UID:e.2303.3004
SEQUENCE:3
DTSTAMP:20260422T133229Z
URL:https://members.greatbend.org/events/details/employer-roundtable-unemployment-tax-understanding-regulations-3004
END:VEVENT

END:VCALENDAR
