BEGIN:VCALENDAR
VERSION:2.0
PRODID:-//ChamberMaster//Event Calendar 2.0//EN
METHOD:PUBLISH
X-PUBLISHED-TTL:P3D
REFRESH-INTERVAL:P3D
CALSCALE:GREGORIAN
BEGIN:VEVENT
DTSTART:20170425T163000Z
DTEND:20170425T180000Z
X-MICROSOFT-CDO-ALLDAYEVENT:FALSE
SUMMARY:Employers Roundtable - Workers Comp 101
DESCRIPTION:Are you a small business owner? Are you an HR Professional? Do you have employees? If your answer to any of these questions was yes  then the HR Roundtable may be a valuable resource for you! Looking to provide interesting topics and relevant conversation for HR Professionals and Small Business Owners alike\, future luncheons will include a revamped format to encourage conversation\, questions and sharing of "best practices." We hope you'll take a look at future topics and make plans to join us!\n\n\n\nThe Page Banquet Room\, 2920 10th Street\n\n11:30 a.m. Luncheon\n\n12:00 p.m. Presentation Begins\n\nRegistration: $20.00 Per Person
X-ALT-DESC;FMTTYPE=text/html:<span style="color: rgb(13\, 6\, 0)\; font-family: Georgia\; font-size: 13.3333px\;">Are you a small business owner? Are you an HR Professional? Do you have employees? If your answer to any of these questions was yes&hellip\; then the HR Roundtable may be a valuable resource for you! Looking to provide interesting topics and relevant conversation for HR Professionals and Small Business Owners alike\, future luncheons will include a revamped format to encourage conversation\, questions and sharing of &ldquo\;best practices.&rdquo\; We hope you&rsquo\;ll take a look at future topics and make plans to join us!</span><br style="color: rgb(13\, 6\, 0)\; font-family: Georgia\; font-size: 13.3333px\;" />\n<br style="color: rgb(13\, 6\, 0)\; font-family: Georgia\; font-size: 13.3333px\;" />\n<span style="color: rgb(13\, 6\, 0)\; font-family: Georgia\; font-size: 13.3333px\;">The Page Banquet Room\, 2920 10th Street</span><br style="color: rgb(13\, 6\, 0)\; font-family: Georgia\; font-size: 13.3333px\;" />\n<span style="color: rgb(13\, 6\, 0)\; font-family: Georgia\; font-size: 13.3333px\;">11:30 a.m. Luncheon</span><br style="color: rgb(13\, 6\, 0)\; font-family: Georgia\; font-size: 13.3333px\;" />\n<span style="color: rgb(13\, 6\, 0)\; font-family: Georgia\; font-size: 13.3333px\;">12:00 p.m. Presentation Begins</span><br style="color: rgb(13\, 6\, 0)\; font-family: Georgia\; font-size: 13.3333px\;" />\n<span style="color: rgb(13\, 6\, 0)\; font-family: Georgia\; font-size: 13.3333px\;">Registration: $20.00 Per Person</span>
LOCATION:The Page American Bistro Banquet Room 2920 10th St Great Bend
UID:e.2303.1218
SEQUENCE:3
DTSTAMP:20260422T215920Z
URL:https://members.greatbend.org/events/details/employers-roundtable-workers-comp-101-1218
END:VEVENT

END:VCALENDAR
