BEGIN:VCALENDAR
VERSION:2.0
PRODID:-//ChamberMaster//Event Calendar 2.0//EN
METHOD:PUBLISH
X-PUBLISHED-TTL:P3D
REFRESH-INTERVAL:P3D
CALSCALE:GREGORIAN
BEGIN:VEVENT
DTSTART:20170731T170000Z
DTEND:20170731T180000Z
X-MICROSOFT-CDO-ALLDAYEVENT:FALSE
SUMMARY:Estate Strategy Essentials
DESCRIPTION:Please join us at our upcoming workshop!\n\nTopic: Estate Strategy Essentials\n\n\n\nRSVP to Melinda Kurth @ 620-792-2465 or melinda.kurth@thrivent.com
X-ALT-DESC;FMTTYPE=text/html:Please join us at our upcoming workshop!<br />\nTopic: Estate Strategy Essentials<br />\n<br />\nRSVP to Melinda Kurth @ 620-792-2465 or melinda.kurth@thrivent.com
LOCATION:The Historic Wolf Hotel - Underground Saloon 1 N. Main Street Ellinwood\, KS
UID:e.2303.3043
SEQUENCE:3
DTSTAMP:20260422T171208Z
URL:https://members.greatbend.org/events/details/estate-strategy-essentials-3043
END:VEVENT

END:VCALENDAR
