BEGIN:VCALENDAR
VERSION:2.0
PRODID:-//ChamberMaster//Event Calendar 2.0//EN
METHOD:PUBLISH
X-PUBLISHED-TTL:P3D
REFRESH-INTERVAL:P3D
CALSCALE:GREGORIAN
BEGIN:VEVENT
DTSTART;VALUE=DATE:20201002
DTEND;VALUE=DATE:20201004
TRANSP:TRANSPARENT
X-MICROSOFT-CDO-ALLDAYEVENT:TRUE
SUMMARY:F&E Auto Auction
DESCRIPTION:F&E Auto Auction
X-ALT-DESC;FMTTYPE=text/html:F&amp\;E Auto Auction 
LOCATION:Expo I & II 9810 B-29 WAY Great Bend\, KS
UID:e.2303.8041
SEQUENCE:3
DTSTAMP:20260425T123205Z
URL:https://members.greatbend.org/events/details/f-e-auto-auction-8041
END:VEVENT

END:VCALENDAR
