BEGIN:VCALENDAR
VERSION:2.0
PRODID:-//ChamberMaster//Event Calendar 2.0//EN
METHOD:PUBLISH
X-PUBLISHED-TTL:P3D
REFRESH-INTERVAL:P3D
CALSCALE:GREGORIAN
BEGIN:VEVENT
DTSTART:20171007T130000Z
DTEND:20171007T220000Z
X-MICROSOFT-CDO-ALLDAYEVENT:FALSE
SUMMARY:F & E Collector Auto Auction
DESCRIPTION:Classics\, Muscle Cars\, Antiques\, Hot Rods\, Motorcycles\, Automobilia/Petroliana Collectibles.\n\n\n\nFood Vendor by: Lone Wolf Catering\n\n\n\nWestern Beverage Beer Garden\n\n\n\nAdmission $5. Doors open at 8am\, Automobilia/Petroliana start at 10am\, vehicles at noon.
X-ALT-DESC;FMTTYPE=text/html:Classics\, Muscle Cars\, Antiques\, Hot Rods\, Motorcycles\, Automobilia/Petroliana Collectibles.<br />\n<br />\nFood Vendor by: Lone Wolf Catering<br />\n<br />\nWestern Beverage Beer Garden<br />\n<br />\nAdmission $5. Doors open at 8am\, Automobilia/Petroliana start at 10am\, vehicles at noon.
LOCATION:Great Bend Expo Complex 455 W. Barton County Road Great Bend\, KS
UID:e.2303.3027
SEQUENCE:3
DTSTAMP:20260422T131910Z
URL:https://members.greatbend.org/events/details/f-e-collector-auto-auction-3027
END:VEVENT

END:VCALENDAR
