BEGIN:VCALENDAR
VERSION:2.0
PRODID:-//ChamberMaster//Event Calendar 2.0//EN
METHOD:PUBLISH
X-PUBLISHED-TTL:P3D
REFRESH-INTERVAL:P3D
CALSCALE:GREGORIAN
BEGIN:VEVENT
DTSTART:20230212T200000Z
DTEND:20230212T230000Z
X-MICROSOFT-CDO-ALLDAYEVENT:FALSE
SUMMARY:Fairytale Creative Camp for Kids
DESCRIPTION:Children aged 3-12 years who love fairytales will enjoy this camp full of creative magic lead by the Barton Dance Theatre students. Kids will learn dance\, have an acting class\, do some tumbling\, create a craft and more! Activities will be age-appropriate. All proceeds go to help fund the Barton Dance Theatre's trip to attend and represent Barton at the American College Dance Association Conference in March.  Visit shows.bartonccc.edu for more information.
X-ALT-DESC;FMTTYPE=text/html:<span style="color: rgb(34\, 34\, 34)\; font-family: Arial\, Helvetica\, sans-serif\; font-size: small\;">Children aged 3-12 years who love fairytales will enjoy this camp full of creative magic lead by the Barton Dance Theatre students. Kids will learn dance\, have an acting class\, do some tumbling\, create a craft and more! Activities will be age-appropriate. All proceeds go to help fund the Barton Dance Theatre&#39\;s trip to attend and represent Barton at the American College Dance Association Conference in March.&nbsp\; Visit&nbsp\;</span><a data-saferedirecturl="https://www.google.com/url?q=https://shows.bartonccc.edu/&amp\;source=gmail&amp\;ust=1674070444231000&amp\;usg=AOvVaw2aeVsXAPlj6j7G1M16RwJi" href="https://shows.bartonccc.edu/" style="color: rgb(17\, 85\, 204)\; font-family: Arial\, Helvetica\, sans-serif\; font-size: small\;" target="_blank">shows.bartonccc.edu</a><span style="color: rgb(34\, 34\, 34)\; font-family: Arial\, Helvetica\, sans-serif\; font-size: small\;">&nbsp\;for more information.</span>
LOCATION:Barton Community College\, 245 NE 30 Rd.
UID:e.2303.11623
SEQUENCE:3
DTSTAMP:20260424T214902Z
URL:https://members.greatbend.org/events/details/fairytale-creative-camp-for-kids-11623
END:VEVENT

END:VCALENDAR
