BEGIN:VCALENDAR
VERSION:2.0
PRODID:-//ChamberMaster//Event Calendar 2.0//EN
METHOD:PUBLISH
X-PUBLISHED-TTL:P3D
REFRESH-INTERVAL:P3D
CALSCALE:GREGORIAN
BEGIN:VEVENT
DTSTART:20220709T130000Z
DTEND:20220709T140000Z
X-MICROSOFT-CDO-ALLDAYEVENT:FALSE
SUMMARY:Family Fun Bicycle Ride
DESCRIPTION:Lots of FUN activities for kids of all Ages:\n\n	25 Free Bicycle Helmets for Children\n	Bike Check-Up Station\n	Bicycle Registration\n\nChildren must be accompanied by a parent to participate.
X-ALT-DESC;FMTTYPE=text/html:<span style="color: rgb(5\, 5\, 5)\; font-family: &quot\;Segoe UI Historic&quot\;\, &quot\;Segoe UI&quot\;\, Helvetica\, Arial\, sans-serif\; font-size: 15px\; background-color: rgb(255\, 255\, 255)\;">Lots of FUN activities for kids of all Ages:</span>\n<ul>\n	<li><span style="color: rgb(5\, 5\, 5)\; font-family: &quot\;Segoe UI Historic&quot\;\, &quot\;Segoe UI&quot\;\, Helvetica\, Arial\, sans-serif\; font-size: 15px\; background-color: rgb(255\, 255\, 255)\;">25 Free Bicycle Helmets for Children</span></li>\n	<li><span style="color: rgb(5\, 5\, 5)\; font-family: &quot\;Segoe UI Historic&quot\;\, &quot\;Segoe UI&quot\;\, Helvetica\, Arial\, sans-serif\; font-size: 15px\; background-color: rgb(255\, 255\, 255)\;">Bike Check-Up Station</span></li>\n	<li><span style="color: rgb(5\, 5\, 5)\; font-family: &quot\;Segoe UI Historic&quot\;\, &quot\;Segoe UI&quot\;\, Helvetica\, Arial\, sans-serif\; font-size: 15px\; background-color: rgb(255\, 255\, 255)\;">Bicycle Registration</span></li>\n</ul>\n<span style="color: rgb(5\, 5\, 5)\; font-family: &quot\;Segoe UI Historic&quot\;\, &quot\;Segoe UI&quot\;\, Helvetica\, Arial\, sans-serif\; font-size: 15px\; background-color: rgb(255\, 255\, 255)\;">Children must be accompanied by a parent to participate.</span>
LOCATION:Expo Area - 2.5 Miles West on 10th St. Great Bend\, Ks
UID:e.2303.10820
SEQUENCE:3
DTSTAMP:20260423T032513Z
URL:https://members.greatbend.org/events/details/family-fun-bicycle-ride-10820
END:VEVENT

END:VCALENDAR
