BEGIN:VCALENDAR
VERSION:2.0
PRODID:-//ChamberMaster//Event Calendar 2.0//EN
METHOD:PUBLISH
X-PUBLISHED-TTL:P3D
REFRESH-INTERVAL:P3D
CALSCALE:GREGORIAN
BEGIN:VEVENT
DTSTART:20210425T180000Z
DTEND:20210425T200000Z
X-MICROSOFT-CDO-ALLDAYEVENT:FALSE
SUMMARY:Family Movie Night: Trolls World Tour
DESCRIPTION:April is Child Abuse Prevention Month and in an effort to actively promote healthy family relations CKCASA invites you to a FREE movie on April 26th. All children must be accompanied by an adult. Three showtimes: 1PM\, 1:30PM\, 2PM (2 shows per timeslot)
X-ALT-DESC;FMTTYPE=text/html:April is Child Abuse Prevention Month and in an effort to actively promote healthy family relations CKCASA invites you to a FREE movie on April 26th. All children must be accompanied by an adult. Three showtimes: 1PM\, 1:30PM\, 2PM (2 shows per timeslot)
LOCATION:
UID:e.2303.8283
SEQUENCE:3
DTSTAMP:20260419T140225Z
URL:https://members.greatbend.org/events/details/family-movie-night-trolls-world-tour-8283
END:VEVENT

END:VCALENDAR
