BEGIN:VCALENDAR
VERSION:2.0
PRODID:-//ChamberMaster//Event Calendar 2.0//EN
METHOD:PUBLISH
X-PUBLISHED-TTL:P3D
REFRESH-INTERVAL:P3D
CALSCALE:GREGORIAN
BEGIN:VEVENT
DTSTART:20241001T210000Z
DTEND:20241001T230000Z
X-MICROSOFT-CDO-ALLDAYEVENT:FALSE
SUMMARY:Family Pizza Night
DESCRIPTION:Celebrate Eat Better\, Eat Together Month with K-State Research and Extension at Gambino's Pizza! Family meals make families stronger. In fact\, family dynamics improve with the frequency of family meals. This event welcomes families to come together to choose ingredients from the MyPlate food groups to make a pizza to take home\, bake\, and enjoy eating together!
X-ALT-DESC;FMTTYPE=text/html:Celebrate Eat Better\, Eat Together Month with K-State Research and Extension at Gambino&#39\;s Pizza! Family meals make families stronger. In fact\, family dynamics improve with the frequency of family meals. This event welcomes families to come together to choose ingredients from the MyPlate food groups to make a pizza to take home\, bake\, and enjoy eating together!
LOCATION:Gambino's Pizza 1309 Main St. Great Bend\, Ks
UID:e.2303.14442
SEQUENCE:3
DTSTAMP:20260422T225828Z
URL:https://members.greatbend.org/events/details/family-pizza-night-14442
END:VEVENT

END:VCALENDAR
