BEGIN:VCALENDAR
VERSION:2.0
PRODID:-//ChamberMaster//Event Calendar 2.0//EN
METHOD:PUBLISH
X-PUBLISHED-TTL:P3D
REFRESH-INTERVAL:P3D
CALSCALE:GREGORIAN
BEGIN:VEVENT
DTSTART:20240627T170000Z
DTEND:20240627T170000Z
X-MICROSOFT-CDO-ALLDAYEVENT:FALSE
SUMMARY:Farmers Bank & Trust: Community Appreciation BBQ
DESCRIPTION:Neighbors\, customers and friends are invited to a Community Appreciation BBQ celebrating 117 years for Farmers Bank and Trust\, headquartered right here in Great Bend! Stop by the 10 th Street lobby on Thursday\, June 27 th from 9 to 4 for door prizes and refreshments. Be sure to register for a chance to become an instant finalist for the Eagle Radio 2024 Chevy Trax giveaway and other prizes. Farmers Bank & Trust extends a thank you to customers and friends for their commitment over the last 117 years of providing personalized service to generations of families and businesses. Local people helping neighbors and friends-- right here in our community!
X-ALT-DESC;FMTTYPE=text/html:Neighbors\, customers and friends are invited to a Community Appreciation BBQ celebrating 117 years for Farmers Bank and Trust\, headquartered right here in Great Bend!&nbsp\;Stop by the 10 th Street lobby on&nbsp\;Thursday\, June 27 th from 9 to 4 for door prizes and refreshments. Be sure to register for a chance to become an instant finalist for the Eagle Radio 2024 Chevy Trax giveaway and other prizes. Farmers Bank &amp\; Trust extends a thank you to customers and friends for their commitment over the last 117 years of providing personalized service to generations of families and businesses. Local people helping neighbors and friends-- right here in our community!
LOCATION:Farmers Bank & Trust 4001 10th St\, Great Bend\, KS
UID:e.2303.13734
SEQUENCE:3
DTSTAMP:20260425T190906Z
URL:https://members.greatbend.org/events/details/farmers-bank-trust-community-appreciation-bbq-13734
END:VEVENT

END:VCALENDAR
