BEGIN:VCALENDAR
VERSION:2.0
PRODID:-//ChamberMaster//Event Calendar 2.0//EN
METHOD:PUBLISH
X-PUBLISHED-TTL:P3D
REFRESH-INTERVAL:P3D
CALSCALE:GREGORIAN
BEGIN:VEVENT
DTSTART:20220707T163000Z
DTEND:20220707T180000Z
X-MICROSOFT-CDO-ALLDAYEVENT:FALSE
SUMMARY:Farmers Bank & Trust Community Appreciation Event
DESCRIPTION:You are invited to our Community Appreciation Event.\n\n	Free Lunch\n	Door Prizes\n	Program at Noon with drawings to follow!\n\n\n\nRegister to become an instant finalist in the Eagle Radio 2022 Chevy Trailblazer Giveaway!\n\n	Drawing at 4:00 pm
X-ALT-DESC;FMTTYPE=text/html:You are invited to our Community Appreciation Event.\n<ul>\n	<li>Free Lunch</li>\n	<li>Door Prizes</li>\n	<li>Program at Noon with drawings to follow!</li>\n</ul>\n<br />\nRegister to become an instant finalist in the Eagle Radio 2022 Chevy Trailblazer Giveaway!\n<ul>\n	<li>Drawing at 4:00 pm</li>\n</ul>\n
LOCATION:Great Bend Events Center 3111 10th St.
UID:e.2303.10845
SEQUENCE:3
DTSTAMP:20260423T032752Z
URL:https://members.greatbend.org/events/details/farmers-bank-trust-community-appreciation-event-10845
END:VEVENT

END:VCALENDAR
